BEGIN:VCALENDAR
VERSION:2.0
PRODID:-//Sergipe País do Forro - ECPv6.15.19//NONSGML v1.0//EN
CALSCALE:GREGORIAN
METHOD:PUBLISH
X-ORIGINAL-URL:https://sergipepaisdoforro.com.br
X-WR-CALDESC:Eventos para Sergipe País do Forro
REFRESH-INTERVAL;VALUE=DURATION:PT1H
X-Robots-Tag:noindex
X-PUBLISHED-TTL:PT1H
BEGIN:VTIMEZONE
TZID:America/Maceio
BEGIN:STANDARD
TZOFFSETFROM:-0300
TZOFFSETTO:-0300
TZNAME:-03
DTSTART:20240101T000000
END:STANDARD
END:VTIMEZONE
BEGIN:VEVENT
DTSTART;VALUE=DATE:20250623
DTEND;VALUE=DATE:20250625
DTSTAMP:20260419T160722
CREATED:20250623T134507Z
LAST-MODIFIED:20250623T134508Z
UID:10001248-1750644000-1750730399@sergipepaisdoforro.com.br
SUMMARY:PESTINHA DO ACORDEON - 23H
DESCRIPTION:PESTINHA DO ACORDEON – 23HData: Categoria(s): Barracão da Sergipe
URL:https://sergipepaisdoforro.com.br/evento/pestinha-do-acordeon-23h/
LOCATION:Arraiá do Povo – Palco Rogério
CATEGORIES:Barracão da Sergipe
END:VEVENT
BEGIN:VEVENT
DTSTART;VALUE=DATE:20250623
DTEND;VALUE=DATE:20250625
DTSTAMP:20260419T160722
CREATED:20250623T134352Z
LAST-MODIFIED:20250623T134353Z
UID:10001247-1750644000-1750730399@sergipepaisdoforro.com.br
SUMMARY:JOESIA RAMOS - 21H30
DESCRIPTION:JOESIA RAMOS – 21H30Data: Categoria(s): Barracão da Sergipe
URL:https://sergipepaisdoforro.com.br/evento/joesia-ramos-21h30-2/
LOCATION:Arraiá do Povo – Palco Rogério
CATEGORIES:Barracão da Sergipe
END:VEVENT
BEGIN:VEVENT
DTSTART;VALUE=DATE:20250623
DTEND;VALUE=DATE:20250625
DTSTAMP:20260419T160722
CREATED:20250623T134308Z
LAST-MODIFIED:20250623T134309Z
UID:10001246-1750644000-1750730399@sergipepaisdoforro.com.br
SUMMARY:QUADRILHA ASA BRANCA DE SIMÃO DIAS - 20H30
DESCRIPTION:QUADRILHA ASA BRANCA DE SIMÃO DIAS – 20H30Data: Categoria(s): Barracão da Sergipe
URL:https://sergipepaisdoforro.com.br/evento/quadrilha-asa-branca-de-simao-dias-20h30/
LOCATION:Arraiá do Povo – Palco Rogério
CATEGORIES:Barracão da Sergipe
END:VEVENT
BEGIN:VEVENT
DTSTART;VALUE=DATE:20250623
DTEND;VALUE=DATE:20250625
DTSTAMP:20260419T160722
CREATED:20250623T134135Z
LAST-MODIFIED:20250623T134137Z
UID:10001245-1750644000-1750730399@sergipepaisdoforro.com.br
SUMMARY:SANDY CANTA ISMAR BARRETO - 19H
DESCRIPTION:SANDY CANTA ISMAR BARRETO – 19HData: Categoria(s): Barracão da Sergipe
URL:https://sergipepaisdoforro.com.br/evento/sandy-canta-ismar-barreto-19h/
LOCATION:Arraiá do Povo – Palco Rogério
CATEGORIES:Barracão da Sergipe
END:VEVENT
BEGIN:VEVENT
DTSTART;VALUE=DATE:20250623
DTEND;VALUE=DATE:20250625
DTSTAMP:20260419T160722
CREATED:20250623T131601Z
LAST-MODIFIED:20250623T131602Z
UID:10001231-1750644000-1750730399@sergipepaisdoforro.com.br
SUMMARY:ENTRE LAÇOS E FITAS - 20H
DESCRIPTION:ENTRE LAÇOS E FITAS – 20HData: Categoria(s): Vila do Forró
URL:https://sergipepaisdoforro.com.br/evento/entre-lacos-e-fitas-20h-2/
LOCATION:Arraiá do Povo – Palco Rogério
CATEGORIES:Vila do Forró
END:VEVENT
BEGIN:VEVENT
DTSTART;VALUE=DATE:20250623
DTEND;VALUE=DATE:20250625
DTSTAMP:20260419T160722
CREATED:20250623T131506Z
LAST-MODIFIED:20250623T131507Z
UID:10001230-1750644000-1750730399@sergipepaisdoforro.com.br
SUMMARY:CIRCO NO SÍTIO - 18H30
DESCRIPTION:CIRCO NO SÍTIO – 18H30Data: Categoria(s): Vila do Forró
URL:https://sergipepaisdoforro.com.br/evento/circo-no-sitio-18h30/
LOCATION:Arraiá do Povo – Palco Rogério
CATEGORIES:Vila do Forró
END:VEVENT
BEGIN:VEVENT
DTSTART;VALUE=DATE:20250623
DTEND;VALUE=DATE:20250625
DTSTAMP:20260419T160722
CREATED:20250623T130942Z
LAST-MODIFIED:20250623T130944Z
UID:10001226-1750644000-1750730399@sergipepaisdoforro.com.br
SUMMARY:TRIO ITAPÕA - 21H
DESCRIPTION:TRIO ITAPÕA – 21HData: Categoria(s): Rua São João – Segundona do Turista
URL:https://sergipepaisdoforro.com.br/evento/trio-itapoa-21h/
LOCATION:Arraiá do Povo – Palco Rogério
CATEGORIES:Rua São João – Segundona do Turista
END:VEVENT
BEGIN:VEVENT
DTSTART;VALUE=DATE:20250623
DTEND;VALUE=DATE:20250625
DTSTAMP:20260419T160722
CREATED:20250623T130821Z
LAST-MODIFIED:20250623T130823Z
UID:10001225-1750644000-1750730399@sergipepaisdoforro.com.br
SUMMARY:FESTA DA ROÇA - 20H
DESCRIPTION:FESTA DA ROÇA – 20HData: Categoria(s): Rua São João – Segundona do Turista
URL:https://sergipepaisdoforro.com.br/evento/festa-da-roca-20h/
LOCATION:Arraiá do Povo – Palco Rogério
CATEGORIES:Rua São João – Segundona do Turista
END:VEVENT
BEGIN:VEVENT
DTSTART;VALUE=DATE:20250623
DTEND;VALUE=DATE:20250625
DTSTAMP:20260419T160722
CREATED:20250623T130527Z
LAST-MODIFIED:20250623T130529Z
UID:10001224-1750644000-1750730399@sergipepaisdoforro.com.br
SUMMARY:ROBSON DO ROJÃO - 18H
DESCRIPTION:ROBSON DO ROJÃO – 18HData: Categoria(s): Rua São João – Segundona do Turista
URL:https://sergipepaisdoforro.com.br/evento/robson-do-rojao-18h/
LOCATION:Arraiá do Povo – Palco Rogério
CATEGORIES:Rua São João – Segundona do Turista
END:VEVENT
BEGIN:VEVENT
DTSTART;VALUE=DATE:20250623
DTEND;VALUE=DATE:20250625
DTSTAMP:20260419T160722
CREATED:20250321T195740Z
LAST-MODIFIED:20250326T204737Z
UID:10001068-1750644000-1750730399@sergipepaisdoforro.com.br
SUMMARY:ZUEIRÕES DO FORRÓ
DESCRIPTION:ZUEIRÕES DO FORRÓData: 23/06/2025 às 02:00Categoria(s): Arraiá do Povo\, Arraiá do Povo – Palco Rogério
URL:https://sergipepaisdoforro.com.br/evento/zueiroes-do-forro/
LOCATION:Arraiá do Povo – Palco Rogério
CATEGORIES:Arraiá do Povo,Arraiá do Povo – Palco Rogério
END:VEVENT
BEGIN:VEVENT
DTSTART;VALUE=DATE:20250623
DTEND;VALUE=DATE:20250625
DTSTAMP:20260419T160722
CREATED:20250321T195644Z
LAST-MODIFIED:20250326T204738Z
UID:10001067-1750644000-1750730399@sergipepaisdoforro.com.br
SUMMARY:LEONARDO
DESCRIPTION:LEONARDOData: 23/06/2025 às 02:00Categoria(s): Arraiá do Povo\, Arraiá do Povo – Palco Rogério
URL:https://sergipepaisdoforro.com.br/evento/leonardo/
LOCATION:Arraiá do Povo – Palco Rogério
CATEGORIES:Arraiá do Povo,Arraiá do Povo – Palco Rogério
END:VEVENT
BEGIN:VEVENT
DTSTART;VALUE=DATE:20250623
DTEND;VALUE=DATE:20250625
DTSTAMP:20260419T160722
CREATED:20250321T195603Z
LAST-MODIFIED:20250326T204738Z
UID:10001066-1750644000-1750730399@sergipepaisdoforro.com.br
SUMMARY:ALCYMAR MONTEIRO
DESCRIPTION:ALCYMAR MONTEIROData: 23/06/2025 às 02:00Categoria(s): Arraiá do Povo\, Arraiá do Povo – Palco Rogério
URL:https://sergipepaisdoforro.com.br/evento/alcymar-monteiro/
LOCATION:Arraiá do Povo – Palco Rogério
CATEGORIES:Arraiá do Povo,Arraiá do Povo – Palco Rogério
END:VEVENT
BEGIN:VEVENT
DTSTART;VALUE=DATE:20250623
DTEND;VALUE=DATE:20250625
DTSTAMP:20260419T160722
CREATED:20250321T195519Z
LAST-MODIFIED:20250326T204738Z
UID:10001065-1750644000-1750730399@sergipepaisdoforro.com.br
SUMMARY:ZÉ LUÍS VAQUEIRO
DESCRIPTION:ZÉ LUÍS VAQUEIROData: 23/06/2025 às 02:00Categoria(s): Arraiá do Povo\, Arraiá do Povo – Palco Rogério
URL:https://sergipepaisdoforro.com.br/evento/ze-luis-vaqueiro/
LOCATION:Arraiá do Povo – Palco Rogério
CATEGORIES:Arraiá do Povo,Arraiá do Povo – Palco Rogério
END:VEVENT
BEGIN:VEVENT
DTSTART;VALUE=DATE:20250623
DTEND;VALUE=DATE:20250625
DTSTAMP:20260419T160722
CREATED:20250321T195431Z
LAST-MODIFIED:20250326T204738Z
UID:10001064-1750644000-1750730399@sergipepaisdoforro.com.br
SUMMARY:IGOR ATIVADO
DESCRIPTION:IGOR ATIVADOData: 23/06/2025 às 02:00Categoria(s): Arraiá do Povo\, Palco 360º
URL:https://sergipepaisdoforro.com.br/evento/kayllan-alves/
LOCATION:Arraiá do Povo – Palco Rogério
CATEGORIES:Arraiá do Povo,Palco 360º
END:VEVENT
BEGIN:VEVENT
DTSTART;VALUE=DATE:20250622
DTEND;VALUE=DATE:20250624
DTSTAMP:20260419T160722
CREATED:20250322T203008Z
LAST-MODIFIED:20250326T204739Z
UID:10001102-1750557600-1750643999@sergipepaisdoforro.com.br
SUMMARY:CHIRLES TRINDADE
DESCRIPTION:CHIRLES TRINDADEData: 22/06/2025 às 02:00Categoria(s): Arraiá do Povo\, Arraiá do Povo – Palco Rogério\, Palco 360º
URL:https://sergipepaisdoforro.com.br/evento/chirles-trindade/
LOCATION:Arraiá do Povo – Palco Rogério
CATEGORIES:Arraiá do Povo,Arraiá do Povo – Palco Rogério,Palco 360º
END:VEVENT
BEGIN:VEVENT
DTSTART;VALUE=DATE:20250622
DTEND;VALUE=DATE:20250624
DTSTAMP:20260419T160722
CREATED:20250321T195327Z
LAST-MODIFIED:20250326T204739Z
UID:10001063-1750557600-1750643999@sergipepaisdoforro.com.br
SUMMARY:FABIANO GUIMARÃES
DESCRIPTION:FABIANO GUIMARÃESData: 22/06/2025 às 02:00Categoria(s): Arraiá do Povo\, Arraiá do Povo – Palco Rogério
URL:https://sergipepaisdoforro.com.br/evento/fabiano-guimaraes/
LOCATION:Arraiá do Povo – Palco Rogério
CATEGORIES:Arraiá do Povo,Arraiá do Povo – Palco Rogério
END:VEVENT
BEGIN:VEVENT
DTSTART;VALUE=DATE:20250622
DTEND;VALUE=DATE:20250624
DTSTAMP:20260419T160722
CREATED:20250321T195234Z
LAST-MODIFIED:20250326T204739Z
UID:10001062-1750557600-1750643999@sergipepaisdoforro.com.br
SUMMARY:TIERRY
DESCRIPTION:TIERRYData: 22/06/2025 às 02:00Categoria(s): Arraiá do Povo\, Arraiá do Povo – Palco Rogério
URL:https://sergipepaisdoforro.com.br/evento/tiery-freitas/
LOCATION:Arraiá do Povo – Palco Rogério
CATEGORIES:Arraiá do Povo,Arraiá do Povo – Palco Rogério
END:VEVENT
BEGIN:VEVENT
DTSTART;VALUE=DATE:20250622
DTEND;VALUE=DATE:20250624
DTSTAMP:20260419T160722
CREATED:20250321T195027Z
LAST-MODIFIED:20250326T204739Z
UID:10001061-1750557600-1750643999@sergipepaisdoforro.com.br
SUMMARY:NUZIO MEDEIROS
DESCRIPTION:NUZIO MEDEIROSData: 22/06/2025 às 02:00Categoria(s): Arraiá do Povo\, Arraiá do Povo – Palco Rogério
URL:https://sergipepaisdoforro.com.br/evento/nuzio-medeiros/
LOCATION:Arraiá do Povo – Palco Rogério
CATEGORIES:Arraiá do Povo,Arraiá do Povo – Palco Rogério
END:VEVENT
BEGIN:VEVENT
DTSTART;VALUE=DATE:20250622
DTEND;VALUE=DATE:20250624
DTSTAMP:20260419T160722
CREATED:20250321T194919Z
LAST-MODIFIED:20250326T204739Z
UID:10001060-1750557600-1750643999@sergipepaisdoforro.com.br
SUMMARY:MARCELO BALA
DESCRIPTION:MARCELO BALAData: 22/06/2025 às 02:00Categoria(s): Arraiá do Povo\, Arraiá do Povo – Palco Rogério
URL:https://sergipepaisdoforro.com.br/evento/marcelo-bala/
LOCATION:Arraiá do Povo – Palco Rogério
CATEGORIES:Arraiá do Povo,Arraiá do Povo – Palco Rogério
END:VEVENT
BEGIN:VEVENT
DTSTART;VALUE=DATE:20250621
DTEND;VALUE=DATE:20250623
DTSTAMP:20260419T160722
CREATED:20250322T202605Z
LAST-MODIFIED:20250326T204740Z
UID:10001101-1750471200-1750557599@sergipepaisdoforro.com.br
SUMMARY:SAMYRA SHOW
DESCRIPTION:SAMYRA SHOWData: 21/06/2025 às 02:00Categoria(s): Arraiá do Povo\, Palco 360º
URL:https://sergipepaisdoforro.com.br/evento/samyra-show/
LOCATION:Arraiá do Povo – Palco Rogério
CATEGORIES:Arraiá do Povo,Palco 360º
END:VEVENT
BEGIN:VEVENT
DTSTART;VALUE=DATE:20250621
DTEND;VALUE=DATE:20250623
DTSTAMP:20260419T160722
CREATED:20250321T194820Z
LAST-MODIFIED:20250326T204740Z
UID:10001059-1750471200-1750557599@sergipepaisdoforro.com.br
SUMMARY:FLOR DE MARACUJÁ
DESCRIPTION:FLOR DE MARACUJÁData: 21/06/2025 às 02:00Categoria(s): Arraiá do Povo\, Arraiá do Povo – Palco Rogério
URL:https://sergipepaisdoforro.com.br/evento/flor-de-maracuja/
LOCATION:Arraiá do Povo – Palco Rogério
CATEGORIES:Arraiá do Povo,Arraiá do Povo – Palco Rogério
END:VEVENT
BEGIN:VEVENT
DTSTART;VALUE=DATE:20250621
DTEND;VALUE=DATE:20250623
DTSTAMP:20260419T160722
CREATED:20250321T194641Z
LAST-MODIFIED:20250507T145701Z
UID:10001058-1750471200-1750557599@sergipepaisdoforro.com.br
SUMMARY:ZEZÉ DI CAMARGO E LUCIANO
DESCRIPTION:ZEZÉ DI CAMARGO E LUCIANOData: 21/06/2025 às 02:00Categoria(s): Arraiá do Povo\, Arraiá do Povo – Palco Rogério
URL:https://sergipepaisdoforro.com.br/evento/zeze-di-camargo/
LOCATION:Arraiá do Povo – Palco Rogério
CATEGORIES:Arraiá do Povo,Arraiá do Povo – Palco Rogério
END:VEVENT
BEGIN:VEVENT
DTSTART;VALUE=DATE:20250621
DTEND;VALUE=DATE:20250623
DTSTAMP:20260419T160722
CREATED:20250321T194545Z
LAST-MODIFIED:20250326T204740Z
UID:10001057-1750471200-1750557599@sergipepaisdoforro.com.br
SUMMARY:LEONNE O NOBRE
DESCRIPTION:LEONNE O NOBREData: 21/06/2025 às 02:00Categoria(s): Arraiá do Povo\, Arraiá do Povo – Palco Rogério
URL:https://sergipepaisdoforro.com.br/evento/leonne-o-nobre/
LOCATION:Arraiá do Povo – Palco Rogério
CATEGORIES:Arraiá do Povo,Arraiá do Povo – Palco Rogério
END:VEVENT
BEGIN:VEVENT
DTSTART;VALUE=DATE:20250621
DTEND;VALUE=DATE:20250623
DTSTAMP:20260419T160722
CREATED:20250321T194424Z
LAST-MODIFIED:20250326T204741Z
UID:10001056-1750471200-1750557599@sergipepaisdoforro.com.br
SUMMARY:THAÍS NOGUEIRA
DESCRIPTION:THAÍS NOGUEIRAData: 21/06/2025 às 02:00Categoria(s): Arraiá do Povo\, Palco 360º
URL:https://sergipepaisdoforro.com.br/evento/thais-nogueira/
LOCATION:Arraiá do Povo – Palco Rogério
CATEGORIES:Arraiá do Povo,Palco 360º
END:VEVENT
BEGIN:VEVENT
DTSTART;VALUE=DATE:20250620
DTEND;VALUE=DATE:20250622
DTSTAMP:20260419T160722
CREATED:20250321T194320Z
LAST-MODIFIED:20250326T204741Z
UID:10001055-1750384800-1750471199@sergipepaisdoforro.com.br
SUMMARY:GERALDO AZEVEDO
DESCRIPTION:GERALDO AZEVEDOData: 20/06/2025 às 02:00Categoria(s): Arraiá do Povo\, Arraiá do Povo – Palco Rogério
URL:https://sergipepaisdoforro.com.br/evento/geraldo-azevedo/
LOCATION:Arraiá do Povo – Palco Rogério
CATEGORIES:Arraiá do Povo,Arraiá do Povo – Palco Rogério
END:VEVENT
BEGIN:VEVENT
DTSTART;VALUE=DATE:20250620
DTEND;VALUE=DATE:20250622
DTSTAMP:20260419T160722
CREATED:20250321T194233Z
LAST-MODIFIED:20250326T204741Z
UID:10001054-1750384800-1750471199@sergipepaisdoforro.com.br
SUMMARY:SANTANNA\, O CANTADOR
DESCRIPTION:SANTANNA\, O CANTADORData: 20/06/2025 às 02:00Categoria(s): Arraiá do Povo\, Arraiá do Povo – Palco Rogério
URL:https://sergipepaisdoforro.com.br/evento/santanna-o-cantador/
LOCATION:Arraiá do Povo – Palco Rogério
CATEGORIES:Arraiá do Povo,Arraiá do Povo – Palco Rogério
END:VEVENT
BEGIN:VEVENT
DTSTART;VALUE=DATE:20250620
DTEND;VALUE=DATE:20250622
DTSTAMP:20260419T160722
CREATED:20250321T194135Z
LAST-MODIFIED:20250326T204741Z
UID:10001053-1750384800-1750471199@sergipepaisdoforro.com.br
SUMMARY:JORGE DE ALTINHO
DESCRIPTION:JORGE DE ALTINHOData: 20/06/2025 às 02:00Categoria(s): Arraiá do Povo\, Arraiá do Povo – Palco Rogério
URL:https://sergipepaisdoforro.com.br/evento/jorge-de-altinho/
LOCATION:Arraiá do Povo – Palco Rogério
CATEGORIES:Arraiá do Povo,Arraiá do Povo – Palco Rogério
END:VEVENT
BEGIN:VEVENT
DTSTART;VALUE=DATE:20250620
DTEND;VALUE=DATE:20250622
DTSTAMP:20260419T160722
CREATED:20250321T194045Z
LAST-MODIFIED:20250326T204742Z
UID:10001052-1750384800-1750471199@sergipepaisdoforro.com.br
SUMMARY:ERIVALDO DE CARIRA
DESCRIPTION:ERIVALDO DE CARIRAData: 20/06/2025 às 02:00Categoria(s): Arraiá do Povo\, Arraiá do Povo – Palco Rogério
URL:https://sergipepaisdoforro.com.br/evento/erivaldo-de-carira-2/
LOCATION:Arraiá do Povo – Palco Rogério
CATEGORIES:Arraiá do Povo,Arraiá do Povo – Palco Rogério
END:VEVENT
BEGIN:VEVENT
DTSTART;VALUE=DATE:20250620
DTEND;VALUE=DATE:20250622
DTSTAMP:20260419T160722
CREATED:20250321T193942Z
LAST-MODIFIED:20250326T204742Z
UID:10001051-1750384800-1750471199@sergipepaisdoforro.com.br
SUMMARY:JOBA
DESCRIPTION:JOBAData: 20/06/2025 às 02:00Categoria(s): Arraiá do Povo\, Palco 360º
URL:https://sergipepaisdoforro.com.br/evento/joba/
LOCATION:Arraiá do Povo – Palco Rogério
CATEGORIES:Arraiá do Povo,Palco 360º
END:VEVENT
BEGIN:VEVENT
DTSTART;VALUE=DATE:20250619
DTEND;VALUE=DATE:20250621
DTSTAMP:20260419T160722
CREATED:20250321T193852Z
LAST-MODIFIED:20250326T204742Z
UID:10001050-1750298400-1750384799@sergipepaisdoforro.com.br
SUMMARY:TATY GIRL
DESCRIPTION:TATY GIRLData: 19/06/2025 às 02:00Categoria(s): Arraiá do Povo\, Arraiá do Povo – Palco Rogério
URL:https://sergipepaisdoforro.com.br/evento/taty-girl/
LOCATION:Arraiá do Povo – Palco Rogério
CATEGORIES:Arraiá do Povo,Arraiá do Povo – Palco Rogério
END:VEVENT
END:VCALENDAR