BEGIN:VCALENDAR
VERSION:2.0
PRODID:-//Sergipe País do Forro - ECPv6.15.19//NONSGML v1.0//EN
CALSCALE:GREGORIAN
METHOD:PUBLISH
X-WR-CALNAME:Sergipe País do Forro
X-ORIGINAL-URL:https://sergipepaisdoforro.com.br
X-WR-CALDESC:Eventos para Sergipe País do Forro
REFRESH-INTERVAL;VALUE=DURATION:PT1H
X-Robots-Tag:noindex
X-PUBLISHED-TTL:PT1H
BEGIN:VTIMEZONE
TZID:America/Maceio
BEGIN:STANDARD
TZOFFSETFROM:-0300
TZOFFSETTO:-0300
TZNAME:-03
DTSTART:20240101T000000
END:STANDARD
END:VTIMEZONE
BEGIN:VEVENT
DTSTART;VALUE=DATE:20260602
DTEND;VALUE=DATE:20260604
DTSTAMP:20260420T105006
CREATED:20260406T191245Z
LAST-MODIFIED:20260406T191245Z
UID:10001357-1780365600-1780451999@sergipepaisdoforro.com.br
SUMMARY:THIAGO AQUINO
DESCRIPTION:THIAGO AQUINOData: Categoria(s): Arraiá do Povo – Palco Rogério
URL:https://sergipepaisdoforro.com.br/evento/thiago-aquino/
LOCATION:Arraiá do Povo – Palco Rogério
CATEGORIES:Arraiá do Povo – Palco Rogério
END:VEVENT
BEGIN:VEVENT
DTSTART;VALUE=DATE:20260602
DTEND;VALUE=DATE:20260604
DTSTAMP:20260420T105006
CREATED:20260406T191219Z
LAST-MODIFIED:20260406T191219Z
UID:10001356-1780365600-1780451999@sergipepaisdoforro.com.br
SUMMARY:LEONNE O NOBRE
DESCRIPTION:LEONNE O NOBREData: Categoria(s): Arraiá do Povo – Palco Rogério
URL:https://sergipepaisdoforro.com.br/evento/leonne-o-nobre-2/
LOCATION:Arraiá do Povo – Palco Rogério
CATEGORIES:Arraiá do Povo – Palco Rogério
END:VEVENT
BEGIN:VEVENT
DTSTART;VALUE=DATE:20260531
DTEND;VALUE=DATE:20260602
DTSTAMP:20260420T105006
CREATED:20260406T191143Z
LAST-MODIFIED:20260406T191143Z
UID:10001355-1780192800-1780279199@sergipepaisdoforro.com.br
SUMMARY:ZÉ TRAMELA
DESCRIPTION:ZÉ TRAMELAData: Categoria(s): Arraia do Povo – Palco 360º
URL:https://sergipepaisdoforro.com.br/evento/ze-tramela-2/
LOCATION:Arraiá do Povo – Palco 360º
CATEGORIES:Arraia do Povo - Palco 360º
END:VEVENT
BEGIN:VEVENT
DTSTART;VALUE=DATE:20260531
DTEND;VALUE=DATE:20260602
DTSTAMP:20260420T105006
CREATED:20260406T191058Z
LAST-MODIFIED:20260406T191058Z
UID:10001354-1780192800-1780279199@sergipepaisdoforro.com.br
SUMMARY:HENRY FREITAS
DESCRIPTION:HENRY FREITASData: Categoria(s): Arraiá do Povo – Palco Rogério
URL:https://sergipepaisdoforro.com.br/evento/henry-freitas-2/
LOCATION:Arraiá do Povo – Palco Rogério
CATEGORIES:Arraiá do Povo – Palco Rogério
END:VEVENT
BEGIN:VEVENT
DTSTART;VALUE=DATE:20260531
DTEND;VALUE=DATE:20260602
DTSTAMP:20260420T105006
CREATED:20260406T190958Z
LAST-MODIFIED:20260406T190958Z
UID:10001352-1780192800-1780279199@sergipepaisdoforro.com.br
SUMMARY:CINTURA FINA
DESCRIPTION:CINTURA FINAData: Categoria(s): Arraiá do Povo – Palco Rogério
URL:https://sergipepaisdoforro.com.br/evento/cintura-fina/
LOCATION:Arraiá do Povo – Palco Rogério
CATEGORIES:Arraiá do Povo – Palco Rogério
END:VEVENT
BEGIN:VEVENT
DTSTART;VALUE=DATE:20260531
DTEND;VALUE=DATE:20260602
DTSTAMP:20260420T105006
CREATED:20260406T191029Z
LAST-MODIFIED:20260415T115920Z
UID:10001353-1780192800-1780279199@sergipepaisdoforro.com.br
SUMMARY:BABY SOM
DESCRIPTION:BABY SOMData: 31/05/2026 às 08:00Categoria(s): Arraiá do Povo – Palco Rogério
URL:https://sergipepaisdoforro.com.br/evento/baby-som-2/
LOCATION:Arraiá do Povo – Palco Rogério
CATEGORIES:Arraiá do Povo – Palco Rogério
END:VEVENT
BEGIN:VEVENT
DTSTART;VALUE=DATE:20260530
DTEND;VALUE=DATE:20260601
DTSTAMP:20260420T105006
CREATED:20260406T190916Z
LAST-MODIFIED:20260406T190916Z
UID:10001351-1780106400-1780192799@sergipepaisdoforro.com.br
SUMMARY:FORRÓ 10
DESCRIPTION:FORRÓ 10Data: Categoria(s): Arraia do Povo – Palco 360º
URL:https://sergipepaisdoforro.com.br/evento/forro-10/
LOCATION:Arraiá do Povo – Palco 360º
CATEGORIES:Arraia do Povo - Palco 360º
END:VEVENT
BEGIN:VEVENT
DTSTART;VALUE=DATE:20260530
DTEND;VALUE=DATE:20260601
DTSTAMP:20260420T105006
CREATED:20260406T190844Z
LAST-MODIFIED:20260406T190844Z
UID:10001350-1780106400-1780192799@sergipepaisdoforro.com.br
SUMMARY:JOELMA
DESCRIPTION:JOELMAData: Categoria(s): Arraiá do Povo – Palco Rogério
URL:https://sergipepaisdoforro.com.br/evento/joelma-2/
LOCATION:Arraiá do Povo – Palco Rogério
CATEGORIES:Arraiá do Povo – Palco Rogério
END:VEVENT
BEGIN:VEVENT
DTSTART;VALUE=DATE:20260530
DTEND;VALUE=DATE:20260601
DTSTAMP:20260420T105006
CREATED:20260406T190712Z
LAST-MODIFIED:20260406T190712Z
UID:10001349-1780106400-1780192799@sergipepaisdoforro.com.br
SUMMARY:KÁTIA E ADUÍLIO
DESCRIPTION:KÁTIA E ADUÍLIOData: Categoria(s): Arraiá do Povo – Palco Rogério
URL:https://sergipepaisdoforro.com.br/evento/katia-e-aduilio/
LOCATION:Arraiá do Povo – Palco Rogério
CATEGORIES:Arraiá do Povo – Palco Rogério
END:VEVENT
BEGIN:VEVENT
DTSTART;VALUE=DATE:20260530
DTEND;VALUE=DATE:20260601
DTSTAMP:20260420T105006
CREATED:20260406T190632Z
LAST-MODIFIED:20260406T190632Z
UID:10001348-1780106400-1780192799@sergipepaisdoforro.com.br
SUMMARY:ADELMARIO COELHO
DESCRIPTION:ADELMARIO COELHOData: Categoria(s): Arraiá do Povo – Palco Rogério
URL:https://sergipepaisdoforro.com.br/evento/adelmario-coelho-2/
LOCATION:Arraiá do Povo – Palco Rogério
CATEGORIES:Arraiá do Povo – Palco Rogério
END:VEVENT
BEGIN:VEVENT
DTSTART;VALUE=DATE:20260530
DTEND;VALUE=DATE:20260601
DTSTAMP:20260420T105006
CREATED:20260406T190546Z
LAST-MODIFIED:20260406T190546Z
UID:10001347-1780106400-1780192799@sergipepaisdoforro.com.br
SUMMARY:FORRÓ BRASIL
DESCRIPTION:FORRÓ BRASILData: Categoria(s): Arraiá do Povo – Palco Rogério
URL:https://sergipepaisdoforro.com.br/evento/forro-brasil-2/
LOCATION:Arraiá do Povo – Palco Rogério
CATEGORIES:Arraiá do Povo – Palco Rogério
END:VEVENT
BEGIN:VEVENT
DTSTART;VALUE=DATE:20260529
DTEND;VALUE=DATE:20260531
DTSTAMP:20260420T105006
CREATED:20260406T190501Z
LAST-MODIFIED:20260406T190502Z
UID:10001346-1780020000-1780106399@sergipepaisdoforro.com.br
SUMMARY:CHIRLYS TRINDADE
DESCRIPTION:CHIRLYS TRINDADEData: Categoria(s): Arraia do Povo – Palco 360º
URL:https://sergipepaisdoforro.com.br/evento/chirlys-trindade/
LOCATION:Arraiá do Povo – Palco 360º
CATEGORIES:Arraia do Povo - Palco 360º
END:VEVENT
BEGIN:VEVENT
DTSTART;VALUE=DATE:20260529
DTEND;VALUE=DATE:20260531
DTSTAMP:20260420T105006
CREATED:20260406T190349Z
LAST-MODIFIED:20260406T190349Z
UID:10001345-1780020000-1780106399@sergipepaisdoforro.com.br
SUMMARY:CALCINHA PRETA ''ATEMPORAL''
DESCRIPTION:CALCINHA PRETA ”ATEMPORAL”Data: Categoria(s): Arraiá do Povo – Palco Rogério
URL:https://sergipepaisdoforro.com.br/evento/calcinha-preta-atemporal/
LOCATION:Arraiá do Povo – Palco Rogério
CATEGORIES:Arraiá do Povo – Palco Rogério
END:VEVENT
BEGIN:VEVENT
DTSTART;VALUE=DATE:20260529
DTEND;VALUE=DATE:20260531
DTSTAMP:20260420T105006
CREATED:20260406T190308Z
LAST-MODIFIED:20260406T190308Z
UID:10001344-1780020000-1780106399@sergipepaisdoforro.com.br
SUMMARY:SEU DESEJO
DESCRIPTION:SEU DESEJOData: Categoria(s): Arraiá do Povo – Palco Rogério
URL:https://sergipepaisdoforro.com.br/evento/seu-desejo/
LOCATION:Arraiá do Povo – Palco Rogério
CATEGORIES:Arraiá do Povo – Palco Rogério
END:VEVENT
BEGIN:VEVENT
DTSTART;VALUE=DATE:20260529
DTEND;VALUE=DATE:20260531
DTSTAMP:20260420T105006
CREATED:20260406T183230Z
LAST-MODIFIED:20260406T184636Z
UID:10001343-1780020000-1780106399@sergipepaisdoforro.com.br
SUMMARY:FOGO NA SAIA
DESCRIPTION:FOGO NA SAIAData: 29/05/2026 às 02:00Categoria(s): Arraiá do Povo – Palco Rogério
URL:https://sergipepaisdoforro.com.br/evento/fogo-na-saia-3/
LOCATION:Arraiá do Povo – Palco Rogério
CATEGORIES:Arraiá do Povo – Palco Rogério
END:VEVENT
BEGIN:VEVENT
DTSTART;VALUE=DATE:20251020
DTEND;VALUE=DATE:20251022
DTSTAMP:20260420T105006
CREATED:20250930T203951Z
LAST-MODIFIED:20250930T203953Z
UID:10001342-1760925600-1761011999@sergipepaisdoforro.com.br
SUMMARY:BEBERO DA PARAÍBA - 21H
DESCRIPTION:BEBERO DA PARAÍBA – 21HData: Categoria(s): Rua São João – Segundona do Turista
URL:https://sergipepaisdoforro.com.br/evento/bebero-da-paraiba-21h-4/
LOCATION:Arraiá do Povo – Palco Rogério
CATEGORIES:Rua São João – Segundona do Turista
END:VEVENT
BEGIN:VEVENT
DTSTART;VALUE=DATE:20251020
DTEND;VALUE=DATE:20251022
DTSTAMP:20260420T105006
CREATED:20250930T203900Z
LAST-MODIFIED:20250930T203902Z
UID:10001341-1760925600-1761011999@sergipepaisdoforro.com.br
SUMMARY:CHAPÉU DE COURO - 20H
DESCRIPTION:CHAPÉU DE COURO – 20HData: Categoria(s): Rua São João – Segundona do Turista
URL:https://sergipepaisdoforro.com.br/evento/chapeu-de-couro-20h/
LOCATION:Arraiá do Povo – Palco Rogério
CATEGORIES:Rua São João – Segundona do Turista
END:VEVENT
BEGIN:VEVENT
DTSTART;VALUE=DATE:20251020
DTEND;VALUE=DATE:20251022
DTSTAMP:20260420T105006
CREATED:20250930T203724Z
LAST-MODIFIED:20250930T203726Z
UID:10001340-1760925600-1761011999@sergipepaisdoforro.com.br
SUMMARY:BOB LELIS - 18H
DESCRIPTION:BOB LELIS – 18HData: Categoria(s): Rua São João – Segundona do Turista
URL:https://sergipepaisdoforro.com.br/evento/bob-lelis-18h/
LOCATION:Arraiá do Povo – Palco Rogério
CATEGORIES:Rua São João – Segundona do Turista
END:VEVENT
BEGIN:VEVENT
DTSTART;VALUE=DATE:20251006
DTEND;VALUE=DATE:20251008
DTSTAMP:20260420T105006
CREATED:20250930T203633Z
LAST-MODIFIED:20250930T203634Z
UID:10001339-1759716000-1759802399@sergipepaisdoforro.com.br
SUMMARY:TRIO VASSORAL - 21H
DESCRIPTION:TRIO VASSORAL – 21HData: Categoria(s): Rua São João – Segundona do Turista
URL:https://sergipepaisdoforro.com.br/evento/trio-vassoral-21h/
LOCATION:Arraiá do Povo – Palco Rogério
CATEGORIES:Rua São João – Segundona do Turista
END:VEVENT
BEGIN:VEVENT
DTSTART;VALUE=DATE:20251006
DTEND;VALUE=DATE:20251008
DTSTAMP:20260420T105006
CREATED:20250930T203548Z
LAST-MODIFIED:20250930T203549Z
UID:10001338-1759716000-1759802399@sergipepaisdoforro.com.br
SUMMARY:ROSA DOURADA - 20H
DESCRIPTION:ROSA DOURADA – 20HData: Categoria(s): Rua São João – Segundona do Turista
URL:https://sergipepaisdoforro.com.br/evento/rosa-dourada-20h/
LOCATION:Arraiá do Povo – Palco Rogério
CATEGORIES:Rua São João – Segundona do Turista
END:VEVENT
BEGIN:VEVENT
DTSTART;VALUE=DATE:20251006
DTEND;VALUE=DATE:20251008
DTSTAMP:20260420T105006
CREATED:20250930T203430Z
LAST-MODIFIED:20250930T203432Z
UID:10001337-1759716000-1759802399@sergipepaisdoforro.com.br
SUMMARY:MISSINHO DO ACORDEON - 18H
DESCRIPTION:MISSINHO DO ACORDEON – 18HData: Categoria(s): Rua São João – Segundona do Turista
URL:https://sergipepaisdoforro.com.br/evento/missinho-do-acordeon-18h/
LOCATION:Arraiá do Povo – Palco Rogério
CATEGORIES:Rua São João – Segundona do Turista
END:VEVENT
BEGIN:VEVENT
DTSTART;VALUE=DATE:20250811
DTEND;VALUE=DATE:20250813
DTSTAMP:20260420T105006
CREATED:20250808T181206Z
LAST-MODIFIED:20250808T181208Z
UID:10001336-1754877600-1754963999@sergipepaisdoforro.com.br
SUMMARY:EDINHO DO ACORDEON - 21H
DESCRIPTION:EDINHO DO ACORDEON – 21HData: Categoria(s): Rua São João – Segundona do Turista
URL:https://sergipepaisdoforro.com.br/evento/edinho-do-acordeon-21h/
LOCATION:Arraiá do Povo – Palco Rogério
CATEGORIES:Rua São João – Segundona do Turista
END:VEVENT
BEGIN:VEVENT
DTSTART;VALUE=DATE:20250811
DTEND;VALUE=DATE:20250813
DTSTAMP:20260420T105006
CREATED:20250808T181004Z
LAST-MODIFIED:20250808T181006Z
UID:10001335-1754877600-1754963999@sergipepaisdoforro.com.br
SUMMARY:PENEIROU XERÉM - 20H
DESCRIPTION:PENEIROU XERÉM – 20HData: Categoria(s): Rua São João – Segundona do Turista
URL:https://sergipepaisdoforro.com.br/evento/peneirou-xerem-20h-2/
LOCATION:Arraiá do Povo – Palco Rogério
CATEGORIES:Rua São João – Segundona do Turista
END:VEVENT
BEGIN:VEVENT
DTSTART;VALUE=DATE:20250811
DTEND;VALUE=DATE:20250813
DTSTAMP:20260420T105006
CREATED:20250808T180912Z
LAST-MODIFIED:20250808T180914Z
UID:10001334-1754877600-1754963999@sergipepaisdoforro.com.br
SUMMARY:TRIO CASCAVEL - 18H
DESCRIPTION:TRIO CASCAVEL – 18HData: Categoria(s): Rua São João – Segundona do Turista
URL:https://sergipepaisdoforro.com.br/evento/trio-cascavel-18h-3/
LOCATION:Arraiá do Povo – Palco Rogério
CATEGORIES:Rua São João – Segundona do Turista
END:VEVENT
BEGIN:VEVENT
DTSTART;VALUE=DATE:20250727
DTEND;VALUE=DATE:20250729
DTSTAMP:20260420T105006
CREATED:20250709T175120Z
LAST-MODIFIED:20250709T175121Z
UID:10001333-1753581600-1753667999@sergipepaisdoforro.com.br
SUMMARY:DINHO MENEZES - 22H
DESCRIPTION:DINHO MENEZES – 22HData: Categoria(s): Gonzagão
URL:https://sergipepaisdoforro.com.br/evento/dinho-menezes-22h/
LOCATION:Arraiá do Povo – Palco Rogério
CATEGORIES:Gonzagão
END:VEVENT
BEGIN:VEVENT
DTSTART;VALUE=DATE:20250727
DTEND;VALUE=DATE:20250729
DTSTAMP:20260420T105006
CREATED:20250709T175031Z
LAST-MODIFIED:20250709T175033Z
UID:10001332-1753581600-1753667999@sergipepaisdoforro.com.br
SUMMARY:RANNIERY GOMES - 20H
DESCRIPTION:RANNIERY GOMES – 20HData: Categoria(s): Gonzagão
URL:https://sergipepaisdoforro.com.br/evento/ranniery-gomes-20h/
LOCATION:Arraiá do Povo – Palco Rogério
CATEGORIES:Gonzagão
END:VEVENT
BEGIN:VEVENT
DTSTART;VALUE=DATE:20250727
DTEND;VALUE=DATE:20250729
DTSTAMP:20260420T105006
CREATED:20250709T174941Z
LAST-MODIFIED:20250709T174947Z
UID:10001331-1753581600-1753667999@sergipepaisdoforro.com.br
SUMMARY:DUDU MORAL - 18H
DESCRIPTION:DUDU MORAL – 18HData: Categoria(s): Gonzagão
URL:https://sergipepaisdoforro.com.br/evento/dudu-moral-18h/
LOCATION:Arraiá do Povo – Palco Rogério
CATEGORIES:Gonzagão
END:VEVENT
BEGIN:VEVENT
DTSTART;VALUE=DATE:20250726
DTEND;VALUE=DATE:20250728
DTSTAMP:20260420T105006
CREATED:20250709T174848Z
LAST-MODIFIED:20250709T174849Z
UID:10001330-1753495200-1753581599@sergipepaisdoforro.com.br
SUMMARY:KELLY AZEVEDO - 23H
DESCRIPTION:KELLY AZEVEDO – 23HData: Categoria(s): Gonzagão
URL:https://sergipepaisdoforro.com.br/evento/kelly-azevedo-23h/
LOCATION:Arraiá do Povo – Palco Rogério
CATEGORIES:Gonzagão
END:VEVENT
BEGIN:VEVENT
DTSTART;VALUE=DATE:20250726
DTEND;VALUE=DATE:20250728
DTSTAMP:20260420T105006
CREATED:20250709T174805Z
LAST-MODIFIED:20250709T174807Z
UID:10001329-1753495200-1753581599@sergipepaisdoforro.com.br
SUMMARY:BELINHO O DIFERENTE - 21H
DESCRIPTION:BELINHO O DIFERENTE – 21HData: Categoria(s): Gonzagão
URL:https://sergipepaisdoforro.com.br/evento/belinho-o-diferente-21h/
LOCATION:Arraiá do Povo – Palco Rogério
CATEGORIES:Gonzagão
END:VEVENT
BEGIN:VEVENT
DTSTART;VALUE=DATE:20250726
DTEND;VALUE=DATE:20250728
DTSTAMP:20260420T105006
CREATED:20250709T174718Z
LAST-MODIFIED:20250709T174720Z
UID:10001328-1753495200-1753581599@sergipepaisdoforro.com.br
SUMMARY:JAILSON DO ACORDEON - 19H
DESCRIPTION:JAILSON DO ACORDEON – 19HData: Categoria(s): Gonzagão
URL:https://sergipepaisdoforro.com.br/evento/jailson-do-acordeon-19h-4/
LOCATION:Arraiá do Povo – Palco Rogério
CATEGORIES:Gonzagão
END:VEVENT
END:VCALENDAR