BEGIN:VCALENDAR
VERSION:2.0
PRODID:-//Sergipe País do Forro - ECPv6.15.19//NONSGML v1.0//EN
CALSCALE:GREGORIAN
METHOD:PUBLISH
X-WR-CALNAME:Sergipe País do Forro
X-ORIGINAL-URL:https://sergipepaisdoforro.com.br
X-WR-CALDESC:Eventos para Sergipe País do Forro
REFRESH-INTERVAL;VALUE=DURATION:PT1H
X-Robots-Tag:noindex
X-PUBLISHED-TTL:PT1H
BEGIN:VTIMEZONE
TZID:America/Maceio
BEGIN:STANDARD
TZOFFSETFROM:-0300
TZOFFSETTO:-0300
TZNAME:-03
DTSTART:20240101T000000
END:STANDARD
END:VTIMEZONE
BEGIN:VEVENT
DTSTART;TZID=America/Maceio:20250519T200000
DTEND;TZID=America/Maceio:20250519T200000
DTSTAMP:20260420T130805
CREATED:20250514T133004Z
LAST-MODIFIED:20250514T133006Z
UID:10001116-1747684800-1747684800@sergipepaisdoforro.com.br
SUMMARY:OS TRÊS MULEQUES
DESCRIPTION:OS TRÊS MULEQUESData: Categoria(s): Rua São João – Segundona do Turista
URL:https://sergipepaisdoforro.com.br/evento/os-tres-muleques/
LOCATION:Arraiá do Povo – Palco Rogério
CATEGORIES:Rua São João – Segundona do Turista
END:VEVENT
BEGIN:VEVENT
DTSTART;TZID=America/Maceio:20250519T193000
DTEND;TZID=America/Maceio:20250519T193000
DTSTAMP:20260420T130805
CREATED:20250514T132907Z
LAST-MODIFIED:20250514T132909Z
UID:10001115-1747683000-1747683000@sergipepaisdoforro.com.br
SUMMARY:QUADRILHA JUNINA XODÓ DA VILA
DESCRIPTION:QUADRILHA JUNINA XODÓ DA VILAData: Categoria(s): Rua São João – Segundona do Turista
URL:https://sergipepaisdoforro.com.br/evento/quadrilha-junina-xodo-da-vila/
LOCATION:Arraiá do Povo – Palco Rogério
CATEGORIES:Rua São João – Segundona do Turista
END:VEVENT
BEGIN:VEVENT
DTSTART;TZID=America/Maceio:20250519T180000
DTEND;TZID=America/Maceio:20250519T180000
DTSTAMP:20260420T130805
CREATED:20250514T132751Z
LAST-MODIFIED:20250514T132753Z
UID:10001114-1747677600-1747677600@sergipepaisdoforro.com.br
SUMMARY:JOSA ROSA
DESCRIPTION:JOSA ROSAData: Categoria(s): Rua São João – Segundona do Turista
URL:https://sergipepaisdoforro.com.br/evento/josa-rosa/
LOCATION:Arraiá do Povo – Palco Rogério
CATEGORIES:Rua São João – Segundona do Turista
END:VEVENT
BEGIN:VEVENT
DTSTART;TZID=America/Maceio:20250505T200000
DTEND;TZID=America/Maceio:20250505T200000
DTSTAMP:20260420T130805
CREATED:20250430T143852Z
LAST-MODIFIED:20250430T143854Z
UID:10001113-1746475200-1746475200@sergipepaisdoforro.com.br
SUMMARY:ERIVALDO DE CARIRA
DESCRIPTION:ERIVALDO DE CARIRAData: Categoria(s): Rua São João – Segundona do Turista
URL:https://sergipepaisdoforro.com.br/evento/erivaldo-de-carira-3/
LOCATION:Arraiá do Povo – Palco Rogério
CATEGORIES:Rua São João – Segundona do Turista
END:VEVENT
BEGIN:VEVENT
DTSTART;TZID=America/Maceio:20250505T193000
DTEND;TZID=America/Maceio:20250505T193000
DTSTAMP:20260420T130805
CREATED:20250430T143812Z
LAST-MODIFIED:20250430T143814Z
UID:10001112-1746473400-1746473400@sergipepaisdoforro.com.br
SUMMARY:QUADRILHA JUNINA SÉCULO XX
DESCRIPTION:QUADRILHA JUNINA SÉCULO XXData: 05/05/2025 às 19:30Categoria(s): Rua São João – Segundona do Turista
URL:https://sergipepaisdoforro.com.br/evento/quadrilha-junina-seculo-xx/
LOCATION:Arraiá do Povo – Palco Rogério
CATEGORIES:Rua São João – Segundona do Turista
END:VEVENT
BEGIN:VEVENT
DTSTART;TZID=America/Maceio:20250505T180000
DTEND;TZID=America/Maceio:20250505T180000
DTSTAMP:20260420T130805
CREATED:20250430T143015Z
LAST-MODIFIED:20250430T143017Z
UID:10001111-1746468000-1746468000@sergipepaisdoforro.com.br
SUMMARY:MIMI DO ACORDEON
DESCRIPTION:MIMI DO ACORDEONData: 05/05/2025 às 18:00Categoria(s): Rua São João – Segundona do Turista
URL:https://sergipepaisdoforro.com.br/evento/mimi-do-acordeon/
LOCATION:Arraiá do Povo – Palco Rogério
CATEGORIES:Rua São João – Segundona do Turista
END:VEVENT
BEGIN:VEVENT
DTSTART;TZID=America/Maceio:20250503T190000
DTEND;TZID=America/Maceio:20250503T190000
DTSTAMP:20260420T130805
CREATED:20250409T120954Z
LAST-MODIFIED:20250409T120954Z
UID:10001105-1746298800-1746298800@sergipepaisdoforro.com.br
SUMMARY:CONCURSO REI E RAINHA DO PAÍS DO FORRÓ
DESCRIPTION:CONCURSO REI E RAINHA DO PAÍS DO FORRÓData: Categoria(s): Centro de Criatividade
URL:https://sergipepaisdoforro.com.br/evento/concurso-rei-e-rainha-do-pais-do-forro/
LOCATION:Centro de Criatividade
CATEGORIES:Centro de Criatividade
END:VEVENT
END:VCALENDAR