BEGIN:VCALENDAR
VERSION:2.0
PRODID:-//Sergipe País do Forro - ECPv6.15.19//NONSGML v1.0//EN
CALSCALE:GREGORIAN
METHOD:PUBLISH
X-WR-CALNAME:Sergipe País do Forro
X-ORIGINAL-URL:https://sergipepaisdoforro.com.br
X-WR-CALDESC:Eventos para Sergipe País do Forro
REFRESH-INTERVAL;VALUE=DURATION:PT1H
X-Robots-Tag:noindex
X-PUBLISHED-TTL:PT1H
BEGIN:VTIMEZONE
TZID:America/Maceio
BEGIN:STANDARD
TZOFFSETFROM:-0300
TZOFFSETTO:-0300
TZNAME:-03
DTSTART:20240101T000000
END:STANDARD
END:VTIMEZONE
BEGIN:VEVENT
DTSTART;VALUE=DATE:20250603
DTEND;VALUE=DATE:20250605
DTSTAMP:20260420T100044
CREATED:20250321T143907Z
LAST-MODIFIED:20250326T204758Z
UID:10000984-1748916000-1749002399@sergipepaisdoforro.com.br
SUMMARY:TAYRONE
DESCRIPTION:TAYRONEData: 03/06/2025 às 02:00Categoria(s): Arraiá do Povo\, Arraiá do Povo – Palco Rogério
URL:https://sergipepaisdoforro.com.br/evento/tayrone/
LOCATION:Arraiá do Povo – Palco Rogério
CATEGORIES:Arraiá do Povo,Arraiá do Povo – Palco Rogério
END:VEVENT
BEGIN:VEVENT
DTSTART;VALUE=DATE:20250603
DTEND;VALUE=DATE:20250605
DTSTAMP:20260420T100044
CREATED:20250321T143824Z
LAST-MODIFIED:20250326T204759Z
UID:10000983-1748916000-1749002399@sergipepaisdoforro.com.br
SUMMARY:LIENE SHOW
DESCRIPTION:LIENE SHOWData: 03/06/2025 às 02:00Categoria(s): Arraiá do Povo\, Arraiá do Povo – Palco Rogério
URL:https://sergipepaisdoforro.com.br/evento/liene-show/
LOCATION:Arraiá do Povo – Palco Rogério
CATEGORIES:Arraiá do Povo,Arraiá do Povo – Palco Rogério
END:VEVENT
BEGIN:VEVENT
DTSTART;VALUE=DATE:20250603
DTEND;VALUE=DATE:20250605
DTSTAMP:20260420T100044
CREATED:20250321T171853Z
LAST-MODIFIED:20250326T204758Z
UID:10001000-1748916000-1749002399@sergipepaisdoforro.com.br
SUMMARY:LUIZ FERRAZ
DESCRIPTION:LUIZ FERRAZData: 03/06/2025 às 02:00Categoria(s): Arraiá do Povo\, Palco 360º
URL:https://sergipepaisdoforro.com.br/evento/luiz-ferraz/
LOCATION:Arraiá do Povo – Palco Rogério
CATEGORIES:Arraiá do Povo,Palco 360º
END:VEVENT
BEGIN:VEVENT
DTSTART;VALUE=DATE:20250602
DTEND;VALUE=DATE:20250604
DTSTAMP:20260420T100044
CREATED:20250602T123858Z
LAST-MODIFIED:20250602T123859Z
UID:10001180-1748829600-1748915999@sergipepaisdoforro.com.br
SUMMARY:CAPUNGA DO FORRÓ - 21H
DESCRIPTION:CAPUNGA DO FORRÓ – 21HData: Categoria(s): Rua São João – Segundona do Turista
URL:https://sergipepaisdoforro.com.br/evento/capunga-do-forro-21h-2/
LOCATION:Arraiá do Povo – Palco Rogério
CATEGORIES:Rua São João – Segundona do Turista
END:VEVENT
BEGIN:VEVENT
DTSTART;VALUE=DATE:20250602
DTEND;VALUE=DATE:20250604
DTSTAMP:20260420T100044
CREATED:20250602T123723Z
LAST-MODIFIED:20250602T123725Z
UID:10001179-1748829600-1748915999@sergipepaisdoforro.com.br
SUMMARY:QUADRILHA JUNINA ASSUM PRETO - 20H
DESCRIPTION:QUADRILHA JUNINA ASSUM PRETO – 20HData: Categoria(s): Rua São João – Segundona do Turista
URL:https://sergipepaisdoforro.com.br/evento/quadrilha-junina-assum-preto-20h-3/
LOCATION:Arraiá do Povo – Palco Rogério
CATEGORIES:Rua São João – Segundona do Turista
END:VEVENT
BEGIN:VEVENT
DTSTART;VALUE=DATE:20250602
DTEND;VALUE=DATE:20250604
DTSTAMP:20260420T100044
CREATED:20250602T123637Z
LAST-MODIFIED:20250602T123639Z
UID:10001178-1748829600-1748915999@sergipepaisdoforro.com.br
SUMMARY:IVANILDO DO ACORDEON E TRIO CRISTALINO - 18H
DESCRIPTION:IVANILDO DO ACORDEON E TRIO CRISTALINO – 18HData: Categoria(s): Rua São João – Segundona do Turista
URL:https://sergipepaisdoforro.com.br/evento/ivanildo-do-acordeon-e-trio-cristalino-18h/
LOCATION:Arraiá do Povo – Palco Rogério
CATEGORIES:Rua São João – Segundona do Turista
END:VEVENT
BEGIN:VEVENT
DTSTART;VALUE=DATE:20250601
DTEND;VALUE=DATE:20250603
DTSTAMP:20260420T100044
CREATED:20250528T212924Z
LAST-MODIFIED:20250528T212925Z
UID:10001171-1748743200-1748829599@sergipepaisdoforro.com.br
SUMMARY:TRIO MEU XODÓ - 19H
DESCRIPTION:TRIO MEU XODÓ – 19HData: Categoria(s): Coreto da Eneva
URL:https://sergipepaisdoforro.com.br/evento/trio-meu-xodo-19h/
LOCATION:Arraiá do Povo – Palco Rogério
CATEGORIES:Coreto da Eneva
END:VEVENT
BEGIN:VEVENT
DTSTART;VALUE=DATE:20250601
DTEND;VALUE=DATE:20250603
DTSTAMP:20260420T100044
CREATED:20250528T212838Z
LAST-MODIFIED:20250528T212839Z
UID:10001170-1748743200-1748829599@sergipepaisdoforro.com.br
SUMMARY:TRIO CORAÇÃO NORDESTE - 17H30
DESCRIPTION:TRIO CORAÇÃO NORDESTE – 17H30Data: Categoria(s): Coreto da Eneva
URL:https://sergipepaisdoforro.com.br/evento/trio-coracao-nordeste-17h30/
LOCATION:Arraiá do Povo – Palco Rogério
CATEGORIES:Coreto da Eneva
END:VEVENT
BEGIN:VEVENT
DTSTART;VALUE=DATE:20250601
DTEND;VALUE=DATE:20250603
DTSTAMP:20260420T100044
CREATED:20250528T195615Z
LAST-MODIFIED:20250528T195617Z
UID:10001150-1748743200-1748829599@sergipepaisdoforro.com.br
SUMMARY:CONCURSO ASQUAJUSE - 21H30
DESCRIPTION:CONCURSO ASQUAJUSE – 21H30Data: Categoria(s): Barracão da Sergipe
URL:https://sergipepaisdoforro.com.br/evento/concurso-asquajuse-21h30/
LOCATION:Arraiá do Povo – Palco Rogério
CATEGORIES:Barracão da Sergipe
END:VEVENT
BEGIN:VEVENT
DTSTART;VALUE=DATE:20250601
DTEND;VALUE=DATE:20250603
DTSTAMP:20260420T100044
CREATED:20250528T195542Z
LAST-MODIFIED:20250528T195543Z
UID:10001149-1748743200-1748829599@sergipepaisdoforro.com.br
SUMMARY:CONCURSO ASQUAJUSE - 20H30
DESCRIPTION:CONCURSO ASQUAJUSE – 20H30Data: Categoria(s): Barracão da Sergipe
URL:https://sergipepaisdoforro.com.br/evento/concurso-asquajuse-20h30/
LOCATION:Arraiá do Povo – Palco Rogério
CATEGORIES:Barracão da Sergipe
END:VEVENT
BEGIN:VEVENT
DTSTART;VALUE=DATE:20250601
DTEND;VALUE=DATE:20250603
DTSTAMP:20260420T100044
CREATED:20250528T195457Z
LAST-MODIFIED:20250528T195458Z
UID:10001148-1748743200-1748829599@sergipepaisdoforro.com.br
SUMMARY:CONCURSO ASQUAJUSE - 19H
DESCRIPTION:CONCURSO ASQUAJUSE – 19HData: Categoria(s): Barracão da Sergipe
URL:https://sergipepaisdoforro.com.br/evento/concurso-asquajuse-19h/
LOCATION:Arraiá do Povo – Palco Rogério
CATEGORIES:Barracão da Sergipe
END:VEVENT
BEGIN:VEVENT
DTSTART;VALUE=DATE:20250601
DTEND;VALUE=DATE:20250603
DTSTAMP:20260420T100044
CREATED:20250528T192621Z
LAST-MODIFIED:20250528T192623Z
UID:10001129-1748743200-1748829599@sergipepaisdoforro.com.br
SUMMARY:DANDO NÓ EM PINGO D'ÁGUA - 20H30
DESCRIPTION:DANDO NÓ EM PINGO D’ÁGUA – 20H30Data: Categoria(s): Vila do Forró
URL:https://sergipepaisdoforro.com.br/evento/dando-no-em-pingo-dagua-20h30/
LOCATION:Arraiá do Povo – Palco Rogério
CATEGORIES:Vila do Forró
END:VEVENT
BEGIN:VEVENT
DTSTART;VALUE=DATE:20250601
DTEND;VALUE=DATE:20250603
DTSTAMP:20260420T100044
CREATED:20250528T191916Z
LAST-MODIFIED:20250528T191918Z
UID:10001128-1748743200-1748829599@sergipepaisdoforro.com.br
SUMMARY:SEGURANÇA URGENTE - 18H30
DESCRIPTION:SEGURANÇA URGENTE – 18H30Data: Categoria(s): Vila do Forró
URL:https://sergipepaisdoforro.com.br/evento/seguranca-urgente-18h30/
LOCATION:Arraiá do Povo – Palco Rogério
CATEGORIES:Vila do Forró
END:VEVENT
BEGIN:VEVENT
DTSTART;VALUE=DATE:20250601
DTEND;VALUE=DATE:20250603
DTSTAMP:20260420T100044
CREATED:20250321T143444Z
LAST-MODIFIED:20250326T204759Z
UID:10000982-1748743200-1748829599@sergipepaisdoforro.com.br
SUMMARY:IGUINHO E LULINHA
DESCRIPTION:IGUINHO E LULINHAData: 01/06/2025 às 02:00Categoria(s): Arraiá do Povo\, Arraiá do Povo – Palco Rogério
URL:https://sergipepaisdoforro.com.br/evento/iguinho-e-lulinha/
LOCATION:Arraiá do Povo – Palco Rogério
CATEGORIES:Arraiá do Povo,Arraiá do Povo – Palco Rogério
END:VEVENT
BEGIN:VEVENT
DTSTART;VALUE=DATE:20250601
DTEND;VALUE=DATE:20250603
DTSTAMP:20260420T100044
CREATED:20250321T143351Z
LAST-MODIFIED:20250326T204759Z
UID:10000981-1748743200-1748829599@sergipepaisdoforro.com.br
SUMMARY:KÁTIA CILENE
DESCRIPTION:KÁTIA CILENEData: 01/06/2025 às 02:00Categoria(s): Arraiá do Povo\, Arraiá do Povo – Palco Rogério
URL:https://sergipepaisdoforro.com.br/evento/katia-cilene/
LOCATION:Arraiá do Povo – Palco Rogério
CATEGORIES:Arraiá do Povo,Arraiá do Povo – Palco Rogério
END:VEVENT
BEGIN:VEVENT
DTSTART;VALUE=DATE:20250601
DTEND;VALUE=DATE:20250603
DTSTAMP:20260420T100044
CREATED:20250321T143300Z
LAST-MODIFIED:20250326T204800Z
UID:10000980-1748743200-1748829599@sergipepaisdoforro.com.br
SUMMARY:DANIELZINHO KACETEIRO
DESCRIPTION:DANIELZINHO KACETEIROData: 01/06/2025 às 02:00Categoria(s): Arraiá do Povo\, Arraiá do Povo – Palco Rogério
URL:https://sergipepaisdoforro.com.br/evento/danielzinho-kaceteiro/
LOCATION:Arraiá do Povo – Palco Rogério
CATEGORIES:Arraiá do Povo,Arraiá do Povo – Palco Rogério
END:VEVENT
BEGIN:VEVENT
DTSTART;VALUE=DATE:20250601
DTEND;VALUE=DATE:20250603
DTSTAMP:20260420T100044
CREATED:20250321T171728Z
LAST-MODIFIED:20250326T204759Z
UID:10000999-1748743200-1748829599@sergipepaisdoforro.com.br
SUMMARY:ALE FERRAZ
DESCRIPTION:ALE FERRAZData: 01/06/2025 às 02:00Categoria(s): Arraiá do Povo\, Palco 360º
URL:https://sergipepaisdoforro.com.br/evento/ale-ferraz/
LOCATION:Arraiá do Povo – Palco Rogério
CATEGORIES:Arraiá do Povo,Palco 360º
END:VEVENT
BEGIN:VEVENT
DTSTART;VALUE=DATE:20250531
DTEND;VALUE=DATE:20250602
DTSTAMP:20260420T100044
CREATED:20250528T212747Z
LAST-MODIFIED:20250528T212749Z
UID:10001169-1748656800-1748743199@sergipepaisdoforro.com.br
SUMMARY:TRIO CHAMEGO BOM - 17H30
DESCRIPTION:TRIO CHAMEGO BOM – 17H30Data: Categoria(s): Coreto da Eneva
URL:https://sergipepaisdoforro.com.br/evento/trio-chamego-bom-17h30/
LOCATION:Arraiá do Povo – Palco Rogério
CATEGORIES:Coreto da Eneva
END:VEVENT
BEGIN:VEVENT
DTSTART;VALUE=DATE:20250531
DTEND;VALUE=DATE:20250602
DTSTAMP:20260420T100044
CREATED:20250528T195345Z
LAST-MODIFIED:20250528T195347Z
UID:10001147-1748656800-1748743199@sergipepaisdoforro.com.br
SUMMARY:FABINHO MELO - 21H30
DESCRIPTION:FABINHO MELO – 21H30Data: Categoria(s): Barracão da Sergipe
URL:https://sergipepaisdoforro.com.br/evento/fabinho-melo-21h30/
LOCATION:Arraiá do Povo – Palco Rogério
CATEGORIES:Barracão da Sergipe
END:VEVENT
BEGIN:VEVENT
DTSTART;VALUE=DATE:20250531
DTEND;VALUE=DATE:20250602
DTSTAMP:20260420T100044
CREATED:20250528T195255Z
LAST-MODIFIED:20250528T195256Z
UID:10001146-1748656800-1748743199@sergipepaisdoforro.com.br
SUMMARY:BATALHA DE SÃO JOÃO/LAGARTO - 20H30
DESCRIPTION:BATALHA DE SÃO JOÃO/LAGARTO – 20H30Data: Categoria(s): Barracão da Sergipe
URL:https://sergipepaisdoforro.com.br/evento/batalha-de-sao-joao-lagarto-20h30/
LOCATION:Arraiá do Povo – Palco Rogério
CATEGORIES:Barracão da Sergipe
END:VEVENT
BEGIN:VEVENT
DTSTART;VALUE=DATE:20250531
DTEND;VALUE=DATE:20250602
DTSTAMP:20260420T100044
CREATED:20250528T195205Z
LAST-MODIFIED:20250528T195207Z
UID:10001145-1748656800-1748743199@sergipepaisdoforro.com.br
SUMMARY:ROBERTINHO DOS 8 BAIXOS - 19H
DESCRIPTION:ROBERTINHO DOS 8 BAIXOS – 19HData: Categoria(s): Barracão da Sergipe
URL:https://sergipepaisdoforro.com.br/evento/robertinho-dos-8-baixos-19h/
LOCATION:Arraiá do Povo – Palco Rogério
CATEGORIES:Barracão da Sergipe
END:VEVENT
BEGIN:VEVENT
DTSTART;VALUE=DATE:20250531
DTEND;VALUE=DATE:20250602
DTSTAMP:20260420T100044
CREATED:20250528T191749Z
LAST-MODIFIED:20250528T191806Z
UID:10001127-1748656800-1748743199@sergipepaisdoforro.com.br
SUMMARY:O MUGIDO DO BOI JANEIRO LÁ PRAS BANDAS DE SERGIPE - 20H30
DESCRIPTION:O MUGIDO DO BOI JANEIRO LÁ PRAS BANDAS DE SERGIPE – 20H30Data: 31/05/2025 às 02:00Categoria(s): Vila do Forró
URL:https://sergipepaisdoforro.com.br/evento/o-mugido-do-boi-janeiro-la-pras-bandas-de-sergipe-20h30/
LOCATION:Arraiá do Povo – Palco Rogério
CATEGORIES:Vila do Forró
END:VEVENT
BEGIN:VEVENT
DTSTART;VALUE=DATE:20250531
DTEND;VALUE=DATE:20250602
DTSTAMP:20260420T100044
CREATED:20250528T191620Z
LAST-MODIFIED:20250528T191621Z
UID:10001126-1748656800-1748743199@sergipepaisdoforro.com.br
SUMMARY:MISTÉRIOS DO SÃO JOÃO - 18H30
DESCRIPTION:MISTÉRIOS DO SÃO JOÃO – 18H30Data: Categoria(s): Vila do Forró
URL:https://sergipepaisdoforro.com.br/evento/misterios-do-sao-joao-18h30/
LOCATION:Arraiá do Povo – Palco Rogério
CATEGORIES:Vila do Forró
END:VEVENT
BEGIN:VEVENT
DTSTART;VALUE=DATE:20250531
DTEND;VALUE=DATE:20250602
DTSTAMP:20260420T100044
CREATED:20250321T142959Z
LAST-MODIFIED:20250326T204800Z
UID:10000979-1748656800-1748743199@sergipepaisdoforro.com.br
SUMMARY:PABLO
DESCRIPTION:PABLOData: 31/05/2025 às 02:00Categoria(s): Arraiá do Povo\, Arraiá do Povo – Palco Rogério
URL:https://sergipepaisdoforro.com.br/evento/pablo/
LOCATION:Arraiá do Povo – Palco Rogério
CATEGORIES:Arraiá do Povo,Arraiá do Povo – Palco Rogério
END:VEVENT
BEGIN:VEVENT
DTSTART;VALUE=DATE:20250531
DTEND;VALUE=DATE:20250602
DTSTAMP:20260420T100044
CREATED:20250321T142508Z
LAST-MODIFIED:20250326T204800Z
UID:10000978-1748656800-1748743199@sergipepaisdoforro.com.br
SUMMARY:WALKYRIA SANTOS
DESCRIPTION:WALKYRIA SANTOSData: 31/05/2025 às 02:00Categoria(s): Arraiá do Povo\, Arraiá do Povo – Palco Rogério
URL:https://sergipepaisdoforro.com.br/evento/walkyria-santos/
LOCATION:Arraiá do Povo – Palco Rogério
CATEGORIES:Arraiá do Povo,Arraiá do Povo – Palco Rogério
END:VEVENT
BEGIN:VEVENT
DTSTART;VALUE=DATE:20250531
DTEND;VALUE=DATE:20250602
DTSTAMP:20260420T100044
CREATED:20250321T142406Z
LAST-MODIFIED:20250326T204801Z
UID:10000977-1748656800-1748743199@sergipepaisdoforro.com.br
SUMMARY:BABY SOM
DESCRIPTION:BABY SOMData: 31/05/2025 às 02:00Categoria(s): Arraiá do Povo\, Arraiá do Povo – Palco Rogério
URL:https://sergipepaisdoforro.com.br/evento/baby-som/
LOCATION:Arraiá do Povo – Palco Rogério
CATEGORIES:Arraiá do Povo,Arraiá do Povo – Palco Rogério
END:VEVENT
BEGIN:VEVENT
DTSTART;VALUE=DATE:20250531
DTEND;VALUE=DATE:20250602
DTSTAMP:20260420T100044
CREATED:20250321T142306Z
LAST-MODIFIED:20250326T204801Z
UID:10000976-1748656800-1748743199@sergipepaisdoforro.com.br
SUMMARY:DANIELZINHO JR
DESCRIPTION:DANIELZINHO JRData: 31/05/2025 às 02:00Categoria(s): Arraiá do Povo\, Arraiá do Povo – Palco Rogério
URL:https://sergipepaisdoforro.com.br/evento/danielzinho-jr/
LOCATION:Arraiá do Povo – Palco Rogério
CATEGORIES:Arraiá do Povo,Arraiá do Povo – Palco Rogério
END:VEVENT
BEGIN:VEVENT
DTSTART;VALUE=DATE:20250531
DTEND;VALUE=DATE:20250602
DTSTAMP:20260420T100044
CREATED:20250321T171441Z
LAST-MODIFIED:20250326T204800Z
UID:10000998-1748656800-1748743199@sergipepaisdoforro.com.br
SUMMARY:FORRÓ PRIME
DESCRIPTION:FORRÓ PRIMEData: 31/05/2025 às 02:00Categoria(s): Arraiá do Povo\, Palco 360º
URL:https://sergipepaisdoforro.com.br/evento/forro-prime/
LOCATION:Arraiá do Povo – Palco Rogério
CATEGORIES:Arraiá do Povo,Palco 360º
END:VEVENT
BEGIN:VEVENT
DTSTART;VALUE=DATE:20250530
DTEND;VALUE=DATE:20250601
DTSTAMP:20260420T100044
CREATED:20250528T212635Z
LAST-MODIFIED:20250528T212706Z
UID:10001168-1748570400-1748656799@sergipepaisdoforro.com.br
SUMMARY:TRIO CACIMBA NOVA - 17H30
DESCRIPTION:TRIO CACIMBA NOVA – 17H30Data: 30/05/2025 às 02:00Categoria(s): Coreto da Eneva
URL:https://sergipepaisdoforro.com.br/evento/trio-cacimba-nova/
LOCATION:Arraiá do Povo – Palco Rogério
CATEGORIES:Coreto da Eneva
END:VEVENT
BEGIN:VEVENT
DTSTART;VALUE=DATE:20250530
DTEND;VALUE=DATE:20250601
DTSTAMP:20260420T100044
CREATED:20250528T195119Z
LAST-MODIFIED:20250528T195121Z
UID:10001144-1748570400-1748656799@sergipepaisdoforro.com.br
SUMMARY:VIRGINIA FONTES - 21H30
DESCRIPTION:VIRGINIA FONTES – 21H30Data: Categoria(s): Barracão da Sergipe
URL:https://sergipepaisdoforro.com.br/evento/virginia-fontes-21h30/
LOCATION:Arraiá do Povo – Palco Rogério
CATEGORIES:Barracão da Sergipe
END:VEVENT
END:VCALENDAR