BEGIN:VCALENDAR
VERSION:2.0
PRODID:-//Sergipe País do Forro - ECPv6.15.19//NONSGML v1.0//EN
CALSCALE:GREGORIAN
METHOD:PUBLISH
X-WR-CALNAME:Sergipe País do Forro
X-ORIGINAL-URL:https://sergipepaisdoforro.com.br
X-WR-CALDESC:Eventos para Sergipe País do Forro
REFRESH-INTERVAL;VALUE=DURATION:PT1H
X-Robots-Tag:noindex
X-PUBLISHED-TTL:PT1H
BEGIN:VTIMEZONE
TZID:America/Maceio
BEGIN:STANDARD
TZOFFSETFROM:-0300
TZOFFSETTO:-0300
TZNAME:-03
DTSTART:20240101T000000
END:STANDARD
END:VTIMEZONE
BEGIN:VEVENT
DTSTART;VALUE=DATE:20250607
DTEND;VALUE=DATE:20250609
DTSTAMP:20260420T065020
CREATED:20250321T172240Z
LAST-MODIFIED:20250326T204754Z
UID:10001004-1749261600-1749347999@sergipepaisdoforro.com.br
SUMMARY:JEANNY E DEDÉ
DESCRIPTION:JEANNY E DEDÉData: 07/06/2025 às 02:00Categoria(s): Arraiá do Povo\, Palco 360º
URL:https://sergipepaisdoforro.com.br/evento/jeanny-e-dede-2/
LOCATION:Arraiá do Povo – Palco Rogério
CATEGORIES:Arraiá do Povo,Palco 360º
END:VEVENT
BEGIN:VEVENT
DTSTART;VALUE=DATE:20250606
DTEND;VALUE=DATE:20250608
DTSTAMP:20260420T065020
CREATED:20250528T213342Z
LAST-MODIFIED:20250528T213343Z
UID:10001175-1749175200-1749261599@sergipepaisdoforro.com.br
SUMMARY:TRIO SOL MAIOR - 17H30
DESCRIPTION:TRIO SOL MAIOR – 17H30Data: Categoria(s): Coreto da Eneva
URL:https://sergipepaisdoforro.com.br/evento/trio-sol-maior-17h30/
LOCATION:Arraiá do Povo – Palco Rogério
CATEGORIES:Coreto da Eneva
END:VEVENT
BEGIN:VEVENT
DTSTART;VALUE=DATE:20250606
DTEND;VALUE=DATE:20250608
DTSTAMP:20260420T065020
CREATED:20250528T201003Z
LAST-MODIFIED:20250528T201005Z
UID:10001162-1749175200-1749261599@sergipepaisdoforro.com.br
SUMMARY:ROBSON DO ROJÃO - 21H30
DESCRIPTION:ROBSON DO ROJÃO – 21H30Data: Categoria(s): Barracão da Sergipe
URL:https://sergipepaisdoforro.com.br/evento/robson-do-rojao-21h30/
LOCATION:Arraiá do Povo – Palco Rogério
CATEGORIES:Barracão da Sergipe
END:VEVENT
BEGIN:VEVENT
DTSTART;VALUE=DATE:20250606
DTEND;VALUE=DATE:20250608
DTSTAMP:20260420T065020
CREATED:20250528T200900Z
LAST-MODIFIED:20250528T200902Z
UID:10001161-1749175200-1749261599@sergipepaisdoforro.com.br
SUMMARY:BAQUE MULHER - 20H30
DESCRIPTION:BAQUE MULHER – 20H30Data: Categoria(s): Barracão da Sergipe
URL:https://sergipepaisdoforro.com.br/evento/baque-mulher-20h30/
LOCATION:Arraiá do Povo – Palco Rogério
CATEGORIES:Barracão da Sergipe
END:VEVENT
BEGIN:VEVENT
DTSTART;VALUE=DATE:20250606
DTEND;VALUE=DATE:20250608
DTSTAMP:20260420T065020
CREATED:20250528T200645Z
LAST-MODIFIED:20250528T200646Z
UID:10001160-1749175200-1749261599@sergipepaisdoforro.com.br
SUMMARY:JAILSON DO ACORDEON - 19H
DESCRIPTION:JAILSON DO ACORDEON – 19HData: Categoria(s): Barracão da Sergipe
URL:https://sergipepaisdoforro.com.br/evento/jailson-do-acordeon-19h-3/
LOCATION:Arraiá do Povo – Palco Rogério
CATEGORIES:Barracão da Sergipe
END:VEVENT
BEGIN:VEVENT
DTSTART;VALUE=DATE:20250606
DTEND;VALUE=DATE:20250608
DTSTAMP:20260420T065020
CREATED:20250528T193805Z
LAST-MODIFIED:20250528T193806Z
UID:10001137-1749175200-1749261599@sergipepaisdoforro.com.br
SUMMARY:SUTAQUE: EU VIM PARA BRINCAR - 20H30
DESCRIPTION:SUTAQUE: EU VIM PARA BRINCAR – 20H30Data: Categoria(s): Vila do Forró
URL:https://sergipepaisdoforro.com.br/evento/sutaque-eu-vim-para-brincar-20h30/
LOCATION:Arraiá do Povo – Palco Rogério
CATEGORIES:Vila do Forró
END:VEVENT
BEGIN:VEVENT
DTSTART;VALUE=DATE:20250606
DTEND;VALUE=DATE:20250608
DTSTAMP:20260420T065020
CREATED:20250528T193550Z
LAST-MODIFIED:20250528T193551Z
UID:10001136-1749175200-1749261599@sergipepaisdoforro.com.br
SUMMARY:ANDARILHOS - 18H30
DESCRIPTION:ANDARILHOS – 18H30Data: Categoria(s): Vila do Forró
URL:https://sergipepaisdoforro.com.br/evento/andarilhos-18h30/
LOCATION:Arraiá do Povo – Palco Rogério
CATEGORIES:Vila do Forró
END:VEVENT
BEGIN:VEVENT
DTSTART;VALUE=DATE:20250606
DTEND;VALUE=DATE:20250608
DTSTAMP:20260420T065020
CREATED:20250321T172159Z
LAST-MODIFIED:20250326T204755Z
UID:10001003-1749175200-1749261599@sergipepaisdoforro.com.br
SUMMARY:DOUGLAS GAVIÃO
DESCRIPTION:DOUGLAS GAVIÃOData: 06/06/2025 às 02:00Categoria(s): Arraiá do Povo\, Palco 360º
URL:https://sergipepaisdoforro.com.br/evento/douglas-gaviao/
LOCATION:Arraiá do Povo – Palco Rogério
CATEGORIES:Arraiá do Povo,Palco 360º
END:VEVENT
BEGIN:VEVENT
DTSTART;VALUE=DATE:20250606
DTEND;VALUE=DATE:20250608
DTSTAMP:20260420T065020
CREATED:20250321T145751Z
LAST-MODIFIED:20250326T204755Z
UID:10000996-1749175200-1749261599@sergipepaisdoforro.com.br
SUMMARY:ARREIO DE OURO
DESCRIPTION:ARREIO DE OUROData: 06/06/2025 às 02:00Categoria(s): Arraiá do Povo\, Arraiá do Povo – Palco Rogério
URL:https://sergipepaisdoforro.com.br/evento/arreio-de-ouro/
LOCATION:Arraiá do Povo – Palco Rogério
CATEGORIES:Arraiá do Povo,Arraiá do Povo – Palco Rogério
END:VEVENT
BEGIN:VEVENT
DTSTART;VALUE=DATE:20250606
DTEND;VALUE=DATE:20250608
DTSTAMP:20260420T065020
CREATED:20250321T145609Z
LAST-MODIFIED:20250326T204755Z
UID:10000995-1749175200-1749261599@sergipepaisdoforro.com.br
SUMMARY:TARCÍSIO DO ACORDEON
DESCRIPTION:TARCÍSIO DO ACORDEONData: 06/06/2025 às 02:00Categoria(s): Arraiá do Povo\, Arraiá do Povo – Palco Rogério
URL:https://sergipepaisdoforro.com.br/evento/tarcisio-do-acordeon/
LOCATION:Arraiá do Povo – Palco Rogério
CATEGORIES:Arraiá do Povo,Arraiá do Povo – Palco Rogério
END:VEVENT
BEGIN:VEVENT
DTSTART;VALUE=DATE:20250606
DTEND;VALUE=DATE:20250608
DTSTAMP:20260420T065020
CREATED:20250321T145444Z
LAST-MODIFIED:20250326T204755Z
UID:10000994-1749175200-1749261599@sergipepaisdoforro.com.br
SUMMARY:CAVALO DE PAU
DESCRIPTION:CAVALO DE PAUData: 06/06/2025 às 02:00Categoria(s): Arraiá do Povo\, Arraiá do Povo – Palco Rogério
URL:https://sergipepaisdoforro.com.br/evento/cavalo-de-pau/
LOCATION:Arraiá do Povo – Palco Rogério
CATEGORIES:Arraiá do Povo,Arraiá do Povo – Palco Rogério
END:VEVENT
BEGIN:VEVENT
DTSTART;VALUE=DATE:20250606
DTEND;VALUE=DATE:20250608
DTSTAMP:20260420T065020
CREATED:20250321T145324Z
LAST-MODIFIED:20250326T204756Z
UID:10000993-1749175200-1749261599@sergipepaisdoforro.com.br
SUMMARY:FORROZÃO QUARTO DE MILHA
DESCRIPTION:FORROZÃO QUARTO DE MILHAData: 06/06/2025 às 02:00Categoria(s): Arraiá do Povo\, Arraiá do Povo – Palco Rogério
URL:https://sergipepaisdoforro.com.br/evento/quarto-de-milha/
LOCATION:Arraiá do Povo – Palco Rogério
CATEGORIES:Arraiá do Povo,Arraiá do Povo – Palco Rogério
END:VEVENT
BEGIN:VEVENT
DTSTART;VALUE=DATE:20250605
DTEND;VALUE=DATE:20250607
DTSTAMP:20260420T065020
CREATED:20250528T213200Z
LAST-MODIFIED:20250528T213202Z
UID:10001174-1749088800-1749175199@sergipepaisdoforro.com.br
SUMMARY:GAÚCHO DO ACORDEON - 17H30
DESCRIPTION:GAÚCHO DO ACORDEON – 17H30Data: Categoria(s): Coreto da Eneva
URL:https://sergipepaisdoforro.com.br/evento/gaucho-do-acordeon-17h30/
LOCATION:Arraiá do Povo – Palco Rogério
CATEGORIES:Coreto da Eneva
END:VEVENT
BEGIN:VEVENT
DTSTART;VALUE=DATE:20250605
DTEND;VALUE=DATE:20250607
DTSTAMP:20260420T065020
CREATED:20250528T200509Z
LAST-MODIFIED:20250528T200511Z
UID:10001159-1749088800-1749175199@sergipepaisdoforro.com.br
SUMMARY:MISSINHO DO ACORDEON - 21H30
DESCRIPTION:MISSINHO DO ACORDEON – 21H30Data: Categoria(s): Barracão da Sergipe
URL:https://sergipepaisdoforro.com.br/evento/missinho-do-acordeon-21h30-3/
LOCATION:Arraiá do Povo – Palco Rogério
CATEGORIES:Barracão da Sergipe
END:VEVENT
BEGIN:VEVENT
DTSTART;VALUE=DATE:20250605
DTEND;VALUE=DATE:20250607
DTSTAMP:20260420T065020
CREATED:20250528T200411Z
LAST-MODIFIED:20250528T200414Z
UID:10001158-1749088800-1749175199@sergipepaisdoforro.com.br
SUMMARY:QUADRILHAS UNIDOS EM ASA BRANCA - 20H30
DESCRIPTION:QUADRILHAS UNIDOS EM ASA BRANCA – 20H30Data: Categoria(s): Barracão da Sergipe
URL:https://sergipepaisdoforro.com.br/evento/quadrilhas-unidos-em-asa-branca-20h30/
LOCATION:Arraiá do Povo – Palco Rogério
CATEGORIES:Barracão da Sergipe
END:VEVENT
BEGIN:VEVENT
DTSTART;VALUE=DATE:20250605
DTEND;VALUE=DATE:20250607
DTSTAMP:20260420T065020
CREATED:20250528T200315Z
LAST-MODIFIED:20250528T200317Z
UID:10001157-1749088800-1749175199@sergipepaisdoforro.com.br
SUMMARY:TRIO PIAUÍ - 19H
DESCRIPTION:TRIO PIAUÍ – 19HData: Categoria(s): Barracão da Sergipe
URL:https://sergipepaisdoforro.com.br/evento/trio-piaui-19h/
LOCATION:Arraiá do Povo – Palco Rogério
CATEGORIES:Barracão da Sergipe
END:VEVENT
BEGIN:VEVENT
DTSTART;VALUE=DATE:20250605
DTEND;VALUE=DATE:20250607
DTSTAMP:20260420T065020
CREATED:20250528T193429Z
LAST-MODIFIED:20250528T193435Z
UID:10001135-1749088800-1749175199@sergipepaisdoforro.com.br
SUMMARY:DOM CAIXOTE\, UMA VIAGEM PELO IMAGINÁRIO POPULAR - 20H30
DESCRIPTION:DOM CAIXOTE\, UMA VIAGEM PELO IMAGINÁRIO POPULAR – 20H30Data: Categoria(s): Vila do Forró
URL:https://sergipepaisdoforro.com.br/evento/dom-caixote-uma-viagem-pelo-imaginario-popular-20h30/
LOCATION:Arraiá do Povo – Palco Rogério
CATEGORIES:Vila do Forró
END:VEVENT
BEGIN:VEVENT
DTSTART;VALUE=DATE:20250605
DTEND;VALUE=DATE:20250607
DTSTAMP:20260420T065020
CREATED:20250528T193314Z
LAST-MODIFIED:20250528T193315Z
UID:10001134-1749088800-1749175199@sergipepaisdoforro.com.br
SUMMARY:O CASAMENTO DO MATUTO - 18H30
DESCRIPTION:O CASAMENTO DO MATUTO – 18H30Data: Categoria(s): Vila do Forró
URL:https://sergipepaisdoforro.com.br/evento/o-casamento-do-matuto-18h30/
LOCATION:Arraiá do Povo – Palco Rogério
CATEGORIES:Vila do Forró
END:VEVENT
BEGIN:VEVENT
DTSTART;VALUE=DATE:20250605
DTEND;VALUE=DATE:20250607
DTSTAMP:20260420T065020
CREATED:20250321T172114Z
LAST-MODIFIED:20250326T204756Z
UID:10001002-1749088800-1749175199@sergipepaisdoforro.com.br
SUMMARY:MARAYSA CANTORA
DESCRIPTION:MARAYSA CANTORAData: 05/06/2025 às 02:00Categoria(s): Arraiá do Povo\, Palco 360º
URL:https://sergipepaisdoforro.com.br/evento/maraysa-cantora/
LOCATION:Arraiá do Povo – Palco Rogério
CATEGORIES:Arraiá do Povo,Palco 360º
END:VEVENT
BEGIN:VEVENT
DTSTART;VALUE=DATE:20250605
DTEND;VALUE=DATE:20250607
DTSTAMP:20260420T065020
CREATED:20250321T145213Z
LAST-MODIFIED:20250326T204756Z
UID:10000992-1749088800-1749175199@sergipepaisdoforro.com.br
SUMMARY:SIMONE MENDES
DESCRIPTION:SIMONE MENDESData: 05/06/2025 às 02:00Categoria(s): Arraiá do Povo\, Arraiá do Povo – Palco Rogério
URL:https://sergipepaisdoforro.com.br/evento/simone-mendes/
LOCATION:Arraiá do Povo – Palco Rogério
CATEGORIES:Arraiá do Povo,Arraiá do Povo – Palco Rogério
END:VEVENT
BEGIN:VEVENT
DTSTART;VALUE=DATE:20250605
DTEND;VALUE=DATE:20250607
DTSTAMP:20260420T065020
CREATED:20250321T145052Z
LAST-MODIFIED:20250326T204756Z
UID:10000991-1749088800-1749175199@sergipepaisdoforro.com.br
SUMMARY:SOLANGE ALMEIDA
DESCRIPTION:SOLANGE ALMEIDAData: 05/06/2025 às 02:00Categoria(s): Arraiá do Povo\, Arraiá do Povo – Palco Rogério
URL:https://sergipepaisdoforro.com.br/evento/solange-almeida/
LOCATION:Arraiá do Povo – Palco Rogério
CATEGORIES:Arraiá do Povo,Arraiá do Povo – Palco Rogério
END:VEVENT
BEGIN:VEVENT
DTSTART;VALUE=DATE:20250605
DTEND;VALUE=DATE:20250607
DTSTAMP:20260420T065020
CREATED:20250321T144933Z
LAST-MODIFIED:20250326T204757Z
UID:10000990-1749088800-1749175199@sergipepaisdoforro.com.br
SUMMARY:NINEIA OLIVEIRA
DESCRIPTION:NINEIA OLIVEIRAData: 05/06/2025 às 02:00Categoria(s): Arraiá do Povo\, Arraiá do Povo – Palco Rogério
URL:https://sergipepaisdoforro.com.br/evento/nineia-oliveira/
LOCATION:Arraiá do Povo – Palco Rogério
CATEGORIES:Arraiá do Povo,Arraiá do Povo – Palco Rogério
END:VEVENT
BEGIN:VEVENT
DTSTART;VALUE=DATE:20250604
DTEND;VALUE=DATE:20250606
DTSTAMP:20260420T065020
CREATED:20250528T213059Z
LAST-MODIFIED:20250528T213101Z
UID:10001173-1749002400-1749088799@sergipepaisdoforro.com.br
SUMMARY:ALEX DO ACORDEON - 17H30
DESCRIPTION:ALEX DO ACORDEON – 17H30Data: Categoria(s): Coreto da Eneva
URL:https://sergipepaisdoforro.com.br/evento/alex-do-acordeon-17h30/
LOCATION:Arraiá do Povo – Palco Rogério
CATEGORIES:Coreto da Eneva
END:VEVENT
BEGIN:VEVENT
DTSTART;VALUE=DATE:20250604
DTEND;VALUE=DATE:20250606
DTSTAMP:20260420T065020
CREATED:20250528T200231Z
LAST-MODIFIED:20250528T200233Z
UID:10001156-1749002400-1749088799@sergipepaisdoforro.com.br
SUMMARY:MESA DE FORRÓ - 21H30
DESCRIPTION:MESA DE FORRÓ – 21H30Data: Categoria(s): Barracão da Sergipe
URL:https://sergipepaisdoforro.com.br/evento/mesa-de-forro-21h30/
LOCATION:Arraiá do Povo – Palco Rogério
CATEGORIES:Barracão da Sergipe
END:VEVENT
BEGIN:VEVENT
DTSTART;VALUE=DATE:20250604
DTEND;VALUE=DATE:20250606
DTSTAMP:20260420T065020
CREATED:20250528T200118Z
LAST-MODIFIED:20250528T200120Z
UID:10001155-1749002400-1749088799@sergipepaisdoforro.com.br
SUMMARY:QUADRILHA PIONEIROS DA ROÇA - 20H30
DESCRIPTION:QUADRILHA PIONEIROS DA ROÇA – 20H30Data: Categoria(s): Barracão da Sergipe
URL:https://sergipepaisdoforro.com.br/evento/quadrilha-pioneiros-da-roca-20h30/
LOCATION:Arraiá do Povo – Palco Rogério
CATEGORIES:Barracão da Sergipe
END:VEVENT
BEGIN:VEVENT
DTSTART;VALUE=DATE:20250604
DTEND;VALUE=DATE:20250606
DTSTAMP:20260420T065020
CREATED:20250528T200001Z
LAST-MODIFIED:20250528T200002Z
UID:10001154-1749002400-1749088799@sergipepaisdoforro.com.br
SUMMARY:MARLEIDE SANTOS E BANDA CAPITÃES DO FORRÓ - 19H
DESCRIPTION:MARLEIDE SANTOS E BANDA CAPITÃES DO FORRÓ – 19HData: Categoria(s): Barracão da Sergipe
URL:https://sergipepaisdoforro.com.br/evento/marleide-santos-e-banda-capitaes-do-forro-19h/
LOCATION:Arraiá do Povo – Palco Rogério
CATEGORIES:Barracão da Sergipe
END:VEVENT
BEGIN:VEVENT
DTSTART;VALUE=DATE:20250604
DTEND;VALUE=DATE:20250606
DTSTAMP:20260420T065020
CREATED:20250528T193202Z
LAST-MODIFIED:20250528T193204Z
UID:10001133-1749002400-1749088799@sergipepaisdoforro.com.br
SUMMARY:FAZ DE CONTA NO CICLO JUNINO - 20H30
DESCRIPTION:FAZ DE CONTA NO CICLO JUNINO – 20H30Data: Categoria(s): Vila do Forró
URL:https://sergipepaisdoforro.com.br/evento/faz-de-conta-no-ciclo-junino-20h30/
LOCATION:Arraiá do Povo – Palco Rogério
CATEGORIES:Vila do Forró
END:VEVENT
BEGIN:VEVENT
DTSTART;VALUE=DATE:20250604
DTEND;VALUE=DATE:20250606
DTSTAMP:20260420T065020
CREATED:20250528T193108Z
LAST-MODIFIED:20250528T193109Z
UID:10001132-1749002400-1749088799@sergipepaisdoforro.com.br
SUMMARY:QUEM VÊ CARA NÃO VÊ CORAÇÃO - 18H30
DESCRIPTION:QUEM VÊ CARA NÃO VÊ CORAÇÃO – 18H30Data: Categoria(s): Vila do Forró
URL:https://sergipepaisdoforro.com.br/evento/quem-ve-cara-nao-ve-coracao-18h30/
LOCATION:Arraiá do Povo – Palco Rogério
CATEGORIES:Vila do Forró
END:VEVENT
BEGIN:VEVENT
DTSTART;VALUE=DATE:20250604
DTEND;VALUE=DATE:20250606
DTSTAMP:20260420T065020
CREATED:20250321T144511Z
LAST-MODIFIED:20250326T204757Z
UID:10000989-1749002400-1749088799@sergipepaisdoforro.com.br
SUMMARY:ZEZO
DESCRIPTION:ZEZOData: 04/06/2025 às 02:00Categoria(s): Arraiá do Povo\, Arraiá do Povo – Palco Rogério
URL:https://sergipepaisdoforro.com.br/evento/zezo-2/
LOCATION:Arraiá do Povo – Palco Rogério
CATEGORIES:Arraiá do Povo,Arraiá do Povo – Palco Rogério
END:VEVENT
BEGIN:VEVENT
DTSTART;VALUE=DATE:20250604
DTEND;VALUE=DATE:20250606
DTSTAMP:20260420T065020
CREATED:20250321T144427Z
LAST-MODIFIED:20250326T204757Z
UID:10000988-1749002400-1749088799@sergipepaisdoforro.com.br
SUMMARY:LIMÃO COM MEL
DESCRIPTION:LIMÃO COM MELData: 04/06/2025 às 02:00Categoria(s): Arraiá do Povo\, Arraiá do Povo – Palco Rogério
URL:https://sergipepaisdoforro.com.br/evento/limao-com-mel/
LOCATION:Arraiá do Povo – Palco Rogério
CATEGORIES:Arraiá do Povo,Arraiá do Povo – Palco Rogério
END:VEVENT
END:VCALENDAR