BEGIN:VCALENDAR
VERSION:2.0
PRODID:-//Sergipe País do Forro - ECPv6.15.19//NONSGML v1.0//EN
CALSCALE:GREGORIAN
METHOD:PUBLISH
X-WR-CALNAME:Sergipe País do Forro
X-ORIGINAL-URL:https://sergipepaisdoforro.com.br
X-WR-CALDESC:Eventos para Sergipe País do Forro
REFRESH-INTERVAL;VALUE=DURATION:PT1H
X-Robots-Tag:noindex
X-PUBLISHED-TTL:PT1H
BEGIN:VTIMEZONE
TZID:America/Maceio
BEGIN:STANDARD
TZOFFSETFROM:-0300
TZOFFSETTO:-0300
TZNAME:-03
DTSTART:20240101T000000
END:STANDARD
END:VTIMEZONE
BEGIN:VEVENT
DTSTART;VALUE=DATE:20250611
DTEND;VALUE=DATE:20250613
DTSTAMP:20260420T033728
CREATED:20250609T180355Z
LAST-MODIFIED:20250609T180356Z
UID:10001188-1749607200-1749693599@sergipepaisdoforro.com.br
SUMMARY:QUADRILHA ASSUM PRETO - 20H30
DESCRIPTION:QUADRILHA ASSUM PRETO – 20H30Data: Categoria(s): Barracão da Sergipe
URL:https://sergipepaisdoforro.com.br/evento/quadrilha-assum-preto-20h30/
LOCATION:Arraiá do Povo – Palco Rogério
CATEGORIES:Barracão da Sergipe
END:VEVENT
BEGIN:VEVENT
DTSTART;VALUE=DATE:20250611
DTEND;VALUE=DATE:20250613
DTSTAMP:20260420T033728
CREATED:20250609T180303Z
LAST-MODIFIED:20250609T180306Z
UID:10001187-1749607200-1749693599@sergipepaisdoforro.com.br
SUMMARY:ANTÔNIO CARLOS DU ARACAJU - 19H
DESCRIPTION:ANTÔNIO CARLOS DU ARACAJU – 19HData: Categoria(s): Barracão da Sergipe
URL:https://sergipepaisdoforro.com.br/evento/antonio-carlos-du-aracaju-19h/
LOCATION:Arraiá do Povo – Palco Rogério
CATEGORIES:Barracão da Sergipe
END:VEVENT
BEGIN:VEVENT
DTSTART;VALUE=DATE:20250611
DTEND;VALUE=DATE:20250613
DTSTAMP:20260420T033728
CREATED:20250322T200213Z
LAST-MODIFIED:20250326T204750Z
UID:10001097-1749607200-1749693599@sergipepaisdoforro.com.br
SUMMARY:LÉO FOGUETE
DESCRIPTION:LÉO FOGUETEData: 11/06/2025 às 02:00Categoria(s): Arraiá do Povo
URL:https://sergipepaisdoforro.com.br/evento/leo-foguete/
LOCATION:Arraiá do Povo – Palco Rogério
CATEGORIES:Arraiá do Povo
END:VEVENT
BEGIN:VEVENT
DTSTART;VALUE=DATE:20250611
DTEND;VALUE=DATE:20250613
DTSTAMP:20260420T033728
CREATED:20250321T175250Z
LAST-MODIFIED:20250326T204750Z
UID:10001020-1749607200-1749693599@sergipepaisdoforro.com.br
SUMMARY:XAND AVIÃO
DESCRIPTION:XAND AVIÃOData: 11/06/2025 às 02:00Categoria(s): Arraiá do Povo\, Arraiá do Povo – Palco Rogério
URL:https://sergipepaisdoforro.com.br/evento/xand-aviao/
LOCATION:Arraiá do Povo – Palco Rogério
CATEGORIES:Arraiá do Povo,Arraiá do Povo – Palco Rogério
END:VEVENT
BEGIN:VEVENT
DTSTART;VALUE=DATE:20250611
DTEND;VALUE=DATE:20250613
DTSTAMP:20260420T033728
CREATED:20250321T175150Z
LAST-MODIFIED:20250326T204750Z
UID:10001019-1749607200-1749693599@sergipepaisdoforro.com.br
SUMMARY:TOCA DO VALE
DESCRIPTION:TOCA DO VALEData: 11/06/2025 às 02:00Categoria(s): Arraiá do Povo\, Arraiá do Povo – Palco Rogério
URL:https://sergipepaisdoforro.com.br/evento/toca-do-vale/
LOCATION:Arraiá do Povo – Palco Rogério
CATEGORIES:Arraiá do Povo,Arraiá do Povo – Palco Rogério
END:VEVENT
BEGIN:VEVENT
DTSTART;VALUE=DATE:20250611
DTEND;VALUE=DATE:20250613
DTSTAMP:20260420T033728
CREATED:20250321T175045Z
LAST-MODIFIED:20250326T204751Z
UID:10001018-1749607200-1749693599@sergipepaisdoforro.com.br
SUMMARY:LUIZ FONTINELI
DESCRIPTION:LUIZ FONTINELIData: 11/06/2025 às 02:00Categoria(s): Arraiá do Povo\, Arraiá do Povo – Palco Rogério
URL:https://sergipepaisdoforro.com.br/evento/luiz-fontineli/
LOCATION:Arraiá do Povo – Palco Rogério
CATEGORIES:Arraiá do Povo,Arraiá do Povo – Palco Rogério
END:VEVENT
BEGIN:VEVENT
DTSTART;VALUE=DATE:20250611
DTEND;VALUE=DATE:20250613
DTSTAMP:20260420T033728
CREATED:20250321T174903Z
LAST-MODIFIED:20250326T204751Z
UID:10001017-1749607200-1749693599@sergipepaisdoforro.com.br
SUMMARY:LUCAS CASTRO
DESCRIPTION:LUCAS CASTROData: 11/06/2025 às 02:00Categoria(s): Arraiá do Povo\, Palco 360º
URL:https://sergipepaisdoforro.com.br/evento/lucas-castro/
LOCATION:Arraiá do Povo – Palco Rogério
CATEGORIES:Arraiá do Povo,Palco 360º
END:VEVENT
BEGIN:VEVENT
DTSTART;VALUE=DATE:20250610
DTEND;VALUE=DATE:20250612
DTSTAMP:20260420T033728
CREATED:20250609T185355Z
LAST-MODIFIED:20250609T185356Z
UID:10001216-1749520800-1749607199@sergipepaisdoforro.com.br
SUMMARY:JEFINHO TEIXEIRA - 17H30
DESCRIPTION:JEFINHO TEIXEIRA – 17H30Data: Categoria(s): Coreto da Eneva
URL:https://sergipepaisdoforro.com.br/evento/jefinho-teixeira-17h30/
LOCATION:Arraiá do Povo – Palco Rogério
CATEGORIES:Coreto da Eneva
END:VEVENT
BEGIN:VEVENT
DTSTART;VALUE=DATE:20250610
DTEND;VALUE=DATE:20250612
DTSTAMP:20260420T033728
CREATED:20250609T182520Z
LAST-MODIFIED:20250609T182521Z
UID:10001205-1749520800-1749607199@sergipepaisdoforro.com.br
SUMMARY:DESTÉ NOR - 20H
DESCRIPTION:DESTÉ NOR – 20HData: Categoria(s): Vila do Forró
URL:https://sergipepaisdoforro.com.br/evento/deste-nor-20h/
LOCATION:Arraiá do Povo – Palco Rogério
CATEGORIES:Vila do Forró
END:VEVENT
BEGIN:VEVENT
DTSTART;VALUE=DATE:20250610
DTEND;VALUE=DATE:20250612
DTSTAMP:20260420T033728
CREATED:20250609T182434Z
LAST-MODIFIED:20250609T182436Z
UID:10001204-1749520800-1749607199@sergipepaisdoforro.com.br
SUMMARY:SR. E SRA. ESPANTALHO - 18H30
DESCRIPTION:SR. E SRA. ESPANTALHO – 18H30Data: Categoria(s): Vila do Forró
URL:https://sergipepaisdoforro.com.br/evento/sr-e-sra-espantalho-18h30/
LOCATION:Arraiá do Povo – Palco Rogério
CATEGORIES:Vila do Forró
END:VEVENT
BEGIN:VEVENT
DTSTART;VALUE=DATE:20250610
DTEND;VALUE=DATE:20250612
DTSTAMP:20260420T033728
CREATED:20250609T180158Z
LAST-MODIFIED:20250609T180159Z
UID:10001186-1749520800-1749607199@sergipepaisdoforro.com.br
SUMMARY:MIMI DO ACORDEON - 21H30
DESCRIPTION:MIMI DO ACORDEON – 21H30Data: Categoria(s): Barracão da Sergipe
URL:https://sergipepaisdoforro.com.br/evento/mimi-do-acordeon-21h30/
LOCATION:Arraiá do Povo – Palco Rogério
CATEGORIES:Barracão da Sergipe
END:VEVENT
BEGIN:VEVENT
DTSTART;VALUE=DATE:20250610
DTEND;VALUE=DATE:20250612
DTSTAMP:20260420T033728
CREATED:20250609T180101Z
LAST-MODIFIED:20250609T180102Z
UID:10001185-1749520800-1749607199@sergipepaisdoforro.com.br
SUMMARY:QUADRILHA ENCANTO DO MATUTO - 20H30
DESCRIPTION:QUADRILHA ENCANTO DO MATUTO – 20H30Data: Categoria(s): Barracão da Sergipe
URL:https://sergipepaisdoforro.com.br/evento/quadrilha-encanto-do-matuto-20h30/
LOCATION:Arraiá do Povo – Palco Rogério
CATEGORIES:Barracão da Sergipe
END:VEVENT
BEGIN:VEVENT
DTSTART;VALUE=DATE:20250610
DTEND;VALUE=DATE:20250612
DTSTAMP:20260420T033728
CREATED:20250609T175728Z
LAST-MODIFIED:20250609T175920Z
UID:10001184-1749520800-1749607199@sergipepaisdoforro.com.br
SUMMARY:SENA - 19H
DESCRIPTION:SENA – 19HData: 10/06/2025 às 02:00Categoria(s): Barracão da Sergipe
URL:https://sergipepaisdoforro.com.br/evento/sena-19h/
LOCATION:Arraiá do Povo – Palco Rogério
CATEGORIES:Barracão da Sergipe
END:VEVENT
BEGIN:VEVENT
DTSTART;VALUE=DATE:20250610
DTEND;VALUE=DATE:20250612
DTSTAMP:20260420T033728
CREATED:20250321T174816Z
LAST-MODIFIED:20250326T204751Z
UID:10001016-1749520800-1749607199@sergipepaisdoforro.com.br
SUMMARY:MIKAEL SANTOS
DESCRIPTION:MIKAEL SANTOSData: 10/06/2025 às 02:00Categoria(s): Arraiá do Povo\, Arraiá do Povo – Palco Rogério
URL:https://sergipepaisdoforro.com.br/evento/mikael-santos/
LOCATION:Arraiá do Povo – Palco Rogério
CATEGORIES:Arraiá do Povo,Arraiá do Povo – Palco Rogério
END:VEVENT
BEGIN:VEVENT
DTSTART;VALUE=DATE:20250610
DTEND;VALUE=DATE:20250612
DTSTAMP:20260420T033728
CREATED:20250321T174605Z
LAST-MODIFIED:20250326T204751Z
UID:10001015-1749520800-1749607199@sergipepaisdoforro.com.br
SUMMARY:NATANZINHO LIMA
DESCRIPTION:NATANZINHO LIMAData: 10/06/2025 às 02:00Categoria(s): Arraiá do Povo\, Arraiá do Povo – Palco Rogério
URL:https://sergipepaisdoforro.com.br/evento/natanzinho-lima/
LOCATION:Arraiá do Povo – Palco Rogério
CATEGORIES:Arraiá do Povo,Arraiá do Povo – Palco Rogério
END:VEVENT
BEGIN:VEVENT
DTSTART;VALUE=DATE:20250610
DTEND;VALUE=DATE:20250612
DTSTAMP:20260420T033728
CREATED:20250321T174433Z
LAST-MODIFIED:20250326T204752Z
UID:10001014-1749520800-1749607199@sergipepaisdoforro.com.br
SUMMARY:UNHA PINTADA
DESCRIPTION:UNHA PINTADAData: 10/06/2025 às 02:00Categoria(s): Arraiá do Povo\, Arraiá do Povo – Palco Rogério
URL:https://sergipepaisdoforro.com.br/evento/unha-pintada/
LOCATION:Arraiá do Povo – Palco Rogério
CATEGORIES:Arraiá do Povo,Arraiá do Povo – Palco Rogério
END:VEVENT
BEGIN:VEVENT
DTSTART;VALUE=DATE:20250610
DTEND;VALUE=DATE:20250612
DTSTAMP:20260420T033728
CREATED:20250321T174254Z
LAST-MODIFIED:20250326T204752Z
UID:10001013-1749520800-1749607199@sergipepaisdoforro.com.br
SUMMARY:KLESSINHA
DESCRIPTION:KLESSINHAData: 10/06/2025 às 02:00Categoria(s): Arraiá do Povo\, Arraiá do Povo – Palco Rogério
URL:https://sergipepaisdoforro.com.br/evento/klessinha/
LOCATION:Arraiá do Povo – Palco Rogério
CATEGORIES:Arraiá do Povo,Arraiá do Povo – Palco Rogério
END:VEVENT
BEGIN:VEVENT
DTSTART;VALUE=DATE:20250610
DTEND;VALUE=DATE:20250612
DTSTAMP:20260420T033728
CREATED:20250321T174200Z
LAST-MODIFIED:20250326T204752Z
UID:10001012-1749520800-1749607199@sergipepaisdoforro.com.br
SUMMARY:RIKINHO
DESCRIPTION:RIKINHOData: 10/06/2025 às 02:00Categoria(s): Arraiá do Povo\, Palco 360º
URL:https://sergipepaisdoforro.com.br/evento/rikinho/
LOCATION:Arraiá do Povo – Palco Rogério
CATEGORIES:Arraiá do Povo,Palco 360º
END:VEVENT
BEGIN:VEVENT
DTSTART;VALUE=DATE:20250609
DTEND;VALUE=DATE:20250611
DTSTAMP:20260420T033728
CREATED:20250609T125757Z
LAST-MODIFIED:20250609T125759Z
UID:10001183-1749434400-1749520799@sergipepaisdoforro.com.br
SUMMARY:CAÇULA DO FORRÓ - 20H
DESCRIPTION:CAÇULA DO FORRÓ – 20HData: Categoria(s): Rua São João – Segundona do Turista
URL:https://sergipepaisdoforro.com.br/evento/cacula-do-forro-20h/
LOCATION:Arraiá do Povo – Palco Rogério
CATEGORIES:Rua São João – Segundona do Turista
END:VEVENT
BEGIN:VEVENT
DTSTART;VALUE=DATE:20250609
DTEND;VALUE=DATE:20250611
DTSTAMP:20260420T033728
CREATED:20250609T125701Z
LAST-MODIFIED:20250609T125703Z
UID:10001182-1749434400-1749520799@sergipepaisdoforro.com.br
SUMMARY:QUADRILHA JUNINA MEU XODÓ - 19H30
DESCRIPTION:QUADRILHA JUNINA MEU XODÓ – 19H30Data: Categoria(s): Rua São João – Segundona do Turista
URL:https://sergipepaisdoforro.com.br/evento/quadrilha-junina-meu-xodo-19h30/
LOCATION:Arraiá do Povo – Palco Rogério
CATEGORIES:Rua São João – Segundona do Turista
END:VEVENT
BEGIN:VEVENT
DTSTART;VALUE=DATE:20250609
DTEND;VALUE=DATE:20250611
DTSTAMP:20260420T033728
CREATED:20250609T125506Z
LAST-MODIFIED:20250609T125508Z
UID:10001181-1749434400-1749520799@sergipepaisdoforro.com.br
SUMMARY:ARARÃO DO NORDESTE - 18H
DESCRIPTION:ARARÃO DO NORDESTE – 18HData: Categoria(s): Rua São João – Segundona do Turista
URL:https://sergipepaisdoforro.com.br/evento/ararao-do-nordeste-18h/
LOCATION:Arraiá do Povo – Palco Rogério
CATEGORIES:Rua São João – Segundona do Turista
END:VEVENT
BEGIN:VEVENT
DTSTART;VALUE=DATE:20250608
DTEND;VALUE=DATE:20250610
DTSTAMP:20260420T033728
CREATED:20250528T213515Z
LAST-MODIFIED:20250528T213517Z
UID:10001177-1749348000-1749434399@sergipepaisdoforro.com.br
SUMMARY:VIBEXOTE - 17H30
DESCRIPTION:VIBEXOTE – 17H30Data: Categoria(s): Coreto da Eneva
URL:https://sergipepaisdoforro.com.br/evento/vibexote-17h30/
LOCATION:Arraiá do Povo – Palco Rogério
CATEGORIES:Coreto da Eneva
END:VEVENT
BEGIN:VEVENT
DTSTART;VALUE=DATE:20250608
DTEND;VALUE=DATE:20250610
DTSTAMP:20260420T033728
CREATED:20250528T201553Z
LAST-MODIFIED:20250528T201554Z
UID:10001167-1749348000-1749434399@sergipepaisdoforro.com.br
SUMMARY:SOMOS LOUCOS - 21H30
DESCRIPTION:SOMOS LOUCOS – 21H30Data: Categoria(s): Barracão da Sergipe
URL:https://sergipepaisdoforro.com.br/evento/somos-loucos-21h30/
LOCATION:Arraiá do Povo – Palco Rogério
CATEGORIES:Barracão da Sergipe
END:VEVENT
BEGIN:VEVENT
DTSTART;VALUE=DATE:20250608
DTEND;VALUE=DATE:20250610
DTSTAMP:20260420T033728
CREATED:20250528T201459Z
LAST-MODIFIED:20250528T201500Z
UID:10001166-1749348000-1749434399@sergipepaisdoforro.com.br
SUMMARY:SAMBA DE COCO DA MUSSUCA - 20H30
DESCRIPTION:SAMBA DE COCO DA MUSSUCA – 20H30Data: Categoria(s): Barracão da Sergipe
URL:https://sergipepaisdoforro.com.br/evento/samba-de-coco-da-mussuca-20h30/
LOCATION:Arraiá do Povo – Palco Rogério
CATEGORIES:Barracão da Sergipe
END:VEVENT
BEGIN:VEVENT
DTSTART;VALUE=DATE:20250608
DTEND;VALUE=DATE:20250610
DTSTAMP:20260420T033728
CREATED:20250528T201415Z
LAST-MODIFIED:20250528T201416Z
UID:10001165-1749348000-1749434399@sergipepaisdoforro.com.br
SUMMARY:LUCAS CAMPELO - 19H
DESCRIPTION:LUCAS CAMPELO – 19HData: Categoria(s): Barracão da Sergipe
URL:https://sergipepaisdoforro.com.br/evento/lucas-campelo-19h/
LOCATION:Arraiá do Povo – Palco Rogério
CATEGORIES:Barracão da Sergipe
END:VEVENT
BEGIN:VEVENT
DTSTART;VALUE=DATE:20250608
DTEND;VALUE=DATE:20250610
DTSTAMP:20260420T033728
CREATED:20250528T194213Z
LAST-MODIFIED:20250528T194214Z
UID:10001141-1749348000-1749434399@sergipepaisdoforro.com.br
SUMMARY:SÃO JOÃO DO SENHOR ANTENOR - 20H30
DESCRIPTION:SÃO JOÃO DO SENHOR ANTENOR – 20H30Data: Categoria(s): Vila do Forró
URL:https://sergipepaisdoforro.com.br/evento/sao-joao-do-senhor-antenor-20h30/
LOCATION:Arraiá do Povo – Palco Rogério
CATEGORIES:Vila do Forró
END:VEVENT
BEGIN:VEVENT
DTSTART;VALUE=DATE:20250608
DTEND;VALUE=DATE:20250610
DTSTAMP:20260420T033728
CREATED:20250528T194114Z
LAST-MODIFIED:20250528T194116Z
UID:10001140-1749348000-1749434399@sergipepaisdoforro.com.br
SUMMARY:O CASAMENTO DE MARIA CHIQUINHA - 18H30
DESCRIPTION:O CASAMENTO DE MARIA CHIQUINHA – 18H30Data: Categoria(s): Vila do Forró
URL:https://sergipepaisdoforro.com.br/evento/o-casamento-de-maria-chiquinha-18h30/
LOCATION:Arraiá do Povo – Palco Rogério
CATEGORIES:Vila do Forró
END:VEVENT
BEGIN:VEVENT
DTSTART;VALUE=DATE:20250608
DTEND;VALUE=DATE:20250610
DTSTAMP:20260420T033728
CREATED:20250322T194026Z
LAST-MODIFIED:20250326T204752Z
UID:10001096-1749348000-1749434399@sergipepaisdoforro.com.br
SUMMARY:ANDRÉ NOVAES
DESCRIPTION:ANDRÉ NOVAESData: 08/06/2025 às 02:00Categoria(s): Arraiá do Povo\, Arraiá do Povo – Palco Rogério\, Palco 360º
URL:https://sergipepaisdoforro.com.br/evento/andre-novaes/
LOCATION:Arraiá do Povo – Palco Rogério
CATEGORIES:Arraiá do Povo,Arraiá do Povo – Palco Rogério,Palco 360º
END:VEVENT
BEGIN:VEVENT
DTSTART;VALUE=DATE:20250608
DTEND;VALUE=DATE:20250610
DTSTAMP:20260420T033728
CREATED:20250321T173520Z
LAST-MODIFIED:20250326T204753Z
UID:10001011-1749348000-1749434399@sergipepaisdoforro.com.br
SUMMARY:VITOR FERNANDES
DESCRIPTION:VITOR FERNANDESData: 08/06/2025 às 02:00Categoria(s): Arraiá do Povo\, Arraiá do Povo – Palco Rogério
URL:https://sergipepaisdoforro.com.br/evento/vitor-fernandes/
LOCATION:Arraiá do Povo – Palco Rogério
CATEGORIES:Arraiá do Povo,Arraiá do Povo – Palco Rogério
END:VEVENT
BEGIN:VEVENT
DTSTART;VALUE=DATE:20250608
DTEND;VALUE=DATE:20250610
DTSTAMP:20260420T033728
CREATED:20250321T173424Z
LAST-MODIFIED:20250326T204753Z
UID:10001010-1749348000-1749434399@sergipepaisdoforro.com.br
SUMMARY:HENRY FREITAS
DESCRIPTION:HENRY FREITASData: 08/06/2025 às 02:00Categoria(s): Arraiá do Povo\, Arraiá do Povo – Palco Rogério
URL:https://sergipepaisdoforro.com.br/evento/henry-freitas/
LOCATION:Arraiá do Povo – Palco Rogério
CATEGORIES:Arraiá do Povo,Arraiá do Povo – Palco Rogério
END:VEVENT
END:VCALENDAR