BEGIN:VCALENDAR
VERSION:2.0
PRODID:-//Sergipe País do Forro - ECPv6.15.19//NONSGML v1.0//EN
CALSCALE:GREGORIAN
METHOD:PUBLISH
X-WR-CALNAME:Sergipe País do Forro
X-ORIGINAL-URL:https://sergipepaisdoforro.com.br
X-WR-CALDESC:Eventos para Sergipe País do Forro
REFRESH-INTERVAL;VALUE=DURATION:PT1H
X-Robots-Tag:noindex
X-PUBLISHED-TTL:PT1H
BEGIN:VTIMEZONE
TZID:America/Maceio
BEGIN:STANDARD
TZOFFSETFROM:-0300
TZOFFSETTO:-0300
TZNAME:-03
DTSTART:20240101T000000
END:STANDARD
END:VTIMEZONE
BEGIN:VEVENT
DTSTART;VALUE=DATE:20250613
DTEND;VALUE=DATE:20250615
DTSTAMP:20260420T022612
CREATED:20250521T125735Z
LAST-MODIFIED:20250521T204543Z
UID:10001117-1749780000-1749866399@sergipepaisdoforro.com.br
SUMMARY:BAÚ DAS ANTIGAS - 22H
DESCRIPTION:BAÚ DAS ANTIGAS – 22HData: 13/06/2025 às 22:00Categoria(s): Arrastapé do 18
URL:https://sergipepaisdoforro.com.br/evento/bau-das-antigas-2/
LOCATION:Arraiá do Povo – Palco Rogério
CATEGORIES:Arrastapé do 18
END:VEVENT
BEGIN:VEVENT
DTSTART;VALUE=DATE:20250613
DTEND;VALUE=DATE:20250615
DTSTAMP:20260420T022612
CREATED:20250322T200734Z
LAST-MODIFIED:20250326T204748Z
UID:10001099-1749780000-1749866399@sergipepaisdoforro.com.br
SUMMARY:ISRAEL E RODOLFO
DESCRIPTION:ISRAEL E RODOLFOData: 13/06/2025 às 02:00Categoria(s): Arraiá do Povo\, Arraiá do Povo – Palco Rogério
URL:https://sergipepaisdoforro.com.br/evento/israel-e-rodolfo/
LOCATION:Arraiá do Povo – Palco Rogério
CATEGORIES:Arraiá do Povo,Arraiá do Povo – Palco Rogério
END:VEVENT
BEGIN:VEVENT
DTSTART;VALUE=DATE:20250613
DTEND;VALUE=DATE:20250615
DTSTAMP:20260420T022612
CREATED:20250322T200713Z
LAST-MODIFIED:20250326T204748Z
UID:10001098-1749780000-1749866399@sergipepaisdoforro.com.br
SUMMARY:GUSTAVO MIOTO
DESCRIPTION:GUSTAVO MIOTOData: 13/06/2025 às 02:00Categoria(s): Arraiá do Povo\, Arraiá do Povo – Palco Rogério
URL:https://sergipepaisdoforro.com.br/evento/gustavo-mioto/
LOCATION:Arraiá do Povo – Palco Rogério
CATEGORIES:Arraiá do Povo,Arraiá do Povo – Palco Rogério
END:VEVENT
BEGIN:VEVENT
DTSTART;VALUE=DATE:20250613
DTEND;VALUE=DATE:20250615
DTSTAMP:20260420T022612
CREATED:20250321T180651Z
LAST-MODIFIED:20250326T204748Z
UID:10001027-1749780000-1749866399@sergipepaisdoforro.com.br
SUMMARY:RANNIERY GOMES
DESCRIPTION:RANNIERY GOMESData: 13/06/2025 às 02:00Categoria(s): Arraiá do Povo\, Arraiá do Povo – Palco Rogério
URL:https://sergipepaisdoforro.com.br/evento/ranniery-gomes/
LOCATION:Arraiá do Povo – Palco Rogério
CATEGORIES:Arraiá do Povo,Arraiá do Povo – Palco Rogério
END:VEVENT
BEGIN:VEVENT
DTSTART;VALUE=DATE:20250613
DTEND;VALUE=DATE:20250615
DTSTAMP:20260420T022612
CREATED:20250321T180550Z
LAST-MODIFIED:20250326T204749Z
UID:10001026-1749780000-1749866399@sergipepaisdoforro.com.br
SUMMARY:CINTURA FINA
DESCRIPTION:CINTURA FINAData: 13/06/2025 às 02:00Categoria(s): Arraiá do Povo\, Arraiá do Povo – Palco Rogério
URL:https://sergipepaisdoforro.com.br/evento/lipe-lucena/
LOCATION:Arraiá do Povo – Palco Rogério
CATEGORIES:Arraiá do Povo,Arraiá do Povo – Palco Rogério
END:VEVENT
BEGIN:VEVENT
DTSTART;VALUE=DATE:20250613
DTEND;VALUE=DATE:20250615
DTSTAMP:20260420T022612
CREATED:20250321T180228Z
LAST-MODIFIED:20250326T204749Z
UID:10001025-1749780000-1749866399@sergipepaisdoforro.com.br
SUMMARY:DUDU MORAL
DESCRIPTION:DUDU MORALData: 13/06/2025 às 02:00Categoria(s): Arraiá do Povo\, Palco 360º
URL:https://sergipepaisdoforro.com.br/evento/dudu-moral/
LOCATION:Arraiá do Povo – Palco Rogério
CATEGORIES:Arraiá do Povo,Palco 360º
END:VEVENT
BEGIN:VEVENT
DTSTART;VALUE=DATE:20250612
DTEND;VALUE=DATE:20250614
DTSTAMP:20260420T022612
CREATED:20250609T185650Z
LAST-MODIFIED:20250609T185651Z
UID:10001218-1749693600-1749779999@sergipepaisdoforro.com.br
SUMMARY:JÚNIOR DO ACORDEON - 17H30
DESCRIPTION:JÚNIOR DO ACORDEON – 17H30Data: Categoria(s): Coreto da Eneva
URL:https://sergipepaisdoforro.com.br/evento/junior-do-acordeon-17h30/
LOCATION:Arraiá do Povo – Palco Rogério
CATEGORIES:Coreto da Eneva
END:VEVENT
BEGIN:VEVENT
DTSTART;VALUE=DATE:20250612
DTEND;VALUE=DATE:20250614
DTSTAMP:20260420T022612
CREATED:20250609T183016Z
LAST-MODIFIED:20250609T183018Z
UID:10001209-1749693600-1749779999@sergipepaisdoforro.com.br
SUMMARY:ENTRE LAÇOS E FITAS - 20H
DESCRIPTION:ENTRE LAÇOS E FITAS – 20HData: Categoria(s): Vila do Forró
URL:https://sergipepaisdoforro.com.br/evento/entre-lacos-e-fitas-20h/
LOCATION:Arraiá do Povo – Palco Rogério
CATEGORIES:Vila do Forró
END:VEVENT
BEGIN:VEVENT
DTSTART;VALUE=DATE:20250612
DTEND;VALUE=DATE:20250614
DTSTAMP:20260420T022612
CREATED:20250609T182917Z
LAST-MODIFIED:20250609T182918Z
UID:10001208-1749693600-1749779999@sergipepaisdoforro.com.br
SUMMARY:O MUGIDO DO BOI JANEIRO LÁ PRAS BANDAS DE SERGIPE - 18H30
DESCRIPTION:O MUGIDO DO BOI JANEIRO LÁ PRAS BANDAS DE SERGIPE – 18H30Data: Categoria(s): Vila do Forró
URL:https://sergipepaisdoforro.com.br/evento/o-mugido-do-boi-janeiro-la-pras-bandas-de-sergipe-18h30/
LOCATION:Arraiá do Povo – Palco Rogério
CATEGORIES:Vila do Forró
END:VEVENT
BEGIN:VEVENT
DTSTART;VALUE=DATE:20250612
DTEND;VALUE=DATE:20250614
DTSTAMP:20260420T022612
CREATED:20250609T180946Z
LAST-MODIFIED:20250609T180947Z
UID:10001192-1749693600-1749779999@sergipepaisdoforro.com.br
SUMMARY:OS TRÊS MULEQUES - 21H30
DESCRIPTION:OS TRÊS MULEQUES – 21H30Data: Categoria(s): Barracão da Sergipe
URL:https://sergipepaisdoforro.com.br/evento/os-tres-muleques-21h30/
LOCATION:Arraiá do Povo – Palco Rogério
CATEGORIES:Barracão da Sergipe
END:VEVENT
BEGIN:VEVENT
DTSTART;VALUE=DATE:20250612
DTEND;VALUE=DATE:20250614
DTSTAMP:20260420T022612
CREATED:20250609T180607Z
LAST-MODIFIED:20250609T180608Z
UID:10001190-1749693600-1749779999@sergipepaisdoforro.com.br
SUMMARY:CHICO QUEIROGA E ANTÔNIO ROGÉRIO - 19H
DESCRIPTION:CHICO QUEIROGA E ANTÔNIO ROGÉRIO – 19HData: Categoria(s): Barracão da Sergipe
URL:https://sergipepaisdoforro.com.br/evento/chico-queiroga-e-antonio-rogerio-19h/
LOCATION:Arraiá do Povo – Palco Rogério
CATEGORIES:Barracão da Sergipe
END:VEVENT
BEGIN:VEVENT
DTSTART;VALUE=DATE:20250612
DTEND;VALUE=DATE:20250614
DTSTAMP:20260420T022612
CREATED:20250321T180108Z
LAST-MODIFIED:20250326T204749Z
UID:10001024-1749693600-1749779999@sergipepaisdoforro.com.br
SUMMARY:LUIZA MARTINS
DESCRIPTION:LUIZA MARTINSData: 12/06/2025 às 02:00Categoria(s): Arraiá do Povo\, Arraiá do Povo – Palco Rogério
URL:https://sergipepaisdoforro.com.br/evento/luiza-martins/
LOCATION:Arraiá do Povo – Palco Rogério
CATEGORIES:Arraiá do Povo,Arraiá do Povo – Palco Rogério
END:VEVENT
BEGIN:VEVENT
DTSTART;VALUE=DATE:20250612
DTEND;VALUE=DATE:20250614
DTSTAMP:20260420T022612
CREATED:20250321T175943Z
LAST-MODIFIED:20250326T204749Z
UID:10001023-1749693600-1749779999@sergipepaisdoforro.com.br
SUMMARY:MARI FERNANDEZ
DESCRIPTION:MARI FERNANDEZData: 12/06/2025 às 02:00Categoria(s): Arraiá do Povo\, Arraiá do Povo – Palco Rogério
URL:https://sergipepaisdoforro.com.br/evento/mari-fernandez/
LOCATION:Arraiá do Povo – Palco Rogério
CATEGORIES:Arraiá do Povo,Arraiá do Povo – Palco Rogério
END:VEVENT
BEGIN:VEVENT
DTSTART;VALUE=DATE:20250612
DTEND;VALUE=DATE:20250614
DTSTAMP:20260420T022612
CREATED:20250321T175638Z
LAST-MODIFIED:20250326T204750Z
UID:10001022-1749693600-1749779999@sergipepaisdoforro.com.br
SUMMARY:GIL MENDES
DESCRIPTION:GIL MENDESData: 12/06/2025 às 02:00Categoria(s): Arraiá do Povo\, Arraiá do Povo – Palco Rogério
URL:https://sergipepaisdoforro.com.br/evento/gil-mendes/
LOCATION:Arraiá do Povo – Palco Rogério
CATEGORIES:Arraiá do Povo,Arraiá do Povo – Palco Rogério
END:VEVENT
BEGIN:VEVENT
DTSTART;VALUE=DATE:20250612
DTEND;VALUE=DATE:20250614
DTSTAMP:20260420T022612
CREATED:20250321T175524Z
LAST-MODIFIED:20250326T204750Z
UID:10001021-1749693600-1749779999@sergipepaisdoforro.com.br
SUMMARY:TATAH SANTANA
DESCRIPTION:TATAH SANTANAData: 12/06/2025 às 02:00Categoria(s): Arraiá do Povo\, Palco 360º
URL:https://sergipepaisdoforro.com.br/evento/tatah-santana/
LOCATION:Arraiá do Povo – Palco Rogério
CATEGORIES:Arraiá do Povo,Palco 360º
END:VEVENT
BEGIN:VEVENT
DTSTART;VALUE=DATE:20250612
DTEND;VALUE=DATE:20250614
DTSTAMP:20260420T022612
CREATED:20250609T180720Z
LAST-MODIFIED:20250609T180734Z
UID:10001191-1749693600-1749779999@sergipepaisdoforro.com.br
SUMMARY:FEIRA DO CAJU/NU TEMPO DANCE - 20H30
DESCRIPTION:FEIRA DO CAJU/NU TEMPO DANCE – 20H30Data: 12/06/2025 às 02:00Categoria(s): Barracão da Sergipe
URL:https://sergipepaisdoforro.com.br/evento/feira-do-caju-nu-tempo-dance-20h/
LOCATION:Arraiá do Povo – Palco Rogério
CATEGORIES:Barracão da Sergipe
END:VEVENT
BEGIN:VEVENT
DTSTART;VALUE=DATE:20250611
DTEND;VALUE=DATE:20250613
DTSTAMP:20260420T022612
CREATED:20250609T185547Z
LAST-MODIFIED:20250609T185548Z
UID:10001217-1749607200-1749693599@sergipepaisdoforro.com.br
SUMMARY:ZEZITO NUNES E SAMURAI - 17H30
DESCRIPTION:ZEZITO NUNES E SAMURAI – 17H30Data: Categoria(s): Coreto da Eneva
URL:https://sergipepaisdoforro.com.br/evento/zezito-nunes-e-samurai-17h30/
LOCATION:Arraiá do Povo – Palco Rogério
CATEGORIES:Coreto da Eneva
END:VEVENT
BEGIN:VEVENT
DTSTART;VALUE=DATE:20250611
DTEND;VALUE=DATE:20250613
DTSTAMP:20260420T022612
CREATED:20250609T182744Z
LAST-MODIFIED:20250609T182747Z
UID:10001207-1749607200-1749693599@sergipepaisdoforro.com.br
SUMMARY:FOLCLORIANO NA TERRA DO CAJU - 20H
DESCRIPTION:FOLCLORIANO NA TERRA DO CAJU – 20HData: Categoria(s): Vila do Forró
URL:https://sergipepaisdoforro.com.br/evento/folcloriano-na-terra-do-caju-20h/
LOCATION:Arraiá do Povo – Palco Rogério
CATEGORIES:Vila do Forró
END:VEVENT
BEGIN:VEVENT
DTSTART;VALUE=DATE:20250611
DTEND;VALUE=DATE:20250613
DTSTAMP:20260420T022612
CREATED:20250609T182645Z
LAST-MODIFIED:20250609T182647Z
UID:10001206-1749607200-1749693599@sergipepaisdoforro.com.br
SUMMARY:A FAGULHA DO CORDEL - 18H30
DESCRIPTION:A FAGULHA DO CORDEL – 18H30Data: Categoria(s): Vila do Forró
URL:https://sergipepaisdoforro.com.br/evento/a-fagulha-do-cordel-18h30/
LOCATION:Arraiá do Povo – Palco Rogério
CATEGORIES:Vila do Forró
END:VEVENT
BEGIN:VEVENT
DTSTART;VALUE=DATE:20250611
DTEND;VALUE=DATE:20250613
DTSTAMP:20260420T022612
CREATED:20250609T180457Z
LAST-MODIFIED:20250609T180459Z
UID:10001189-1749607200-1749693599@sergipepaisdoforro.com.br
SUMMARY:ZANNY A MUSA - 21H30
DESCRIPTION:ZANNY A MUSA – 21H30Data: Categoria(s): Barracão da Sergipe
URL:https://sergipepaisdoforro.com.br/evento/zanny-a-musa-21h30/
LOCATION:Arraiá do Povo – Palco Rogério
CATEGORIES:Barracão da Sergipe
END:VEVENT
BEGIN:VEVENT
DTSTART;VALUE=DATE:20250611
DTEND;VALUE=DATE:20250613
DTSTAMP:20260420T022612
CREATED:20250609T180355Z
LAST-MODIFIED:20250609T180356Z
UID:10001188-1749607200-1749693599@sergipepaisdoforro.com.br
SUMMARY:QUADRILHA ASSUM PRETO - 20H30
DESCRIPTION:QUADRILHA ASSUM PRETO – 20H30Data: Categoria(s): Barracão da Sergipe
URL:https://sergipepaisdoforro.com.br/evento/quadrilha-assum-preto-20h30/
LOCATION:Arraiá do Povo – Palco Rogério
CATEGORIES:Barracão da Sergipe
END:VEVENT
BEGIN:VEVENT
DTSTART;VALUE=DATE:20250611
DTEND;VALUE=DATE:20250613
DTSTAMP:20260420T022612
CREATED:20250609T180303Z
LAST-MODIFIED:20250609T180306Z
UID:10001187-1749607200-1749693599@sergipepaisdoforro.com.br
SUMMARY:ANTÔNIO CARLOS DU ARACAJU - 19H
DESCRIPTION:ANTÔNIO CARLOS DU ARACAJU – 19HData: Categoria(s): Barracão da Sergipe
URL:https://sergipepaisdoforro.com.br/evento/antonio-carlos-du-aracaju-19h/
LOCATION:Arraiá do Povo – Palco Rogério
CATEGORIES:Barracão da Sergipe
END:VEVENT
BEGIN:VEVENT
DTSTART;VALUE=DATE:20250611
DTEND;VALUE=DATE:20250613
DTSTAMP:20260420T022612
CREATED:20250322T200213Z
LAST-MODIFIED:20250326T204750Z
UID:10001097-1749607200-1749693599@sergipepaisdoforro.com.br
SUMMARY:LÉO FOGUETE
DESCRIPTION:LÉO FOGUETEData: 11/06/2025 às 02:00Categoria(s): Arraiá do Povo
URL:https://sergipepaisdoforro.com.br/evento/leo-foguete/
LOCATION:Arraiá do Povo – Palco Rogério
CATEGORIES:Arraiá do Povo
END:VEVENT
BEGIN:VEVENT
DTSTART;VALUE=DATE:20250611
DTEND;VALUE=DATE:20250613
DTSTAMP:20260420T022612
CREATED:20250321T175250Z
LAST-MODIFIED:20250326T204750Z
UID:10001020-1749607200-1749693599@sergipepaisdoforro.com.br
SUMMARY:XAND AVIÃO
DESCRIPTION:XAND AVIÃOData: 11/06/2025 às 02:00Categoria(s): Arraiá do Povo\, Arraiá do Povo – Palco Rogério
URL:https://sergipepaisdoforro.com.br/evento/xand-aviao/
LOCATION:Arraiá do Povo – Palco Rogério
CATEGORIES:Arraiá do Povo,Arraiá do Povo – Palco Rogério
END:VEVENT
BEGIN:VEVENT
DTSTART;VALUE=DATE:20250611
DTEND;VALUE=DATE:20250613
DTSTAMP:20260420T022612
CREATED:20250321T175150Z
LAST-MODIFIED:20250326T204750Z
UID:10001019-1749607200-1749693599@sergipepaisdoforro.com.br
SUMMARY:TOCA DO VALE
DESCRIPTION:TOCA DO VALEData: 11/06/2025 às 02:00Categoria(s): Arraiá do Povo\, Arraiá do Povo – Palco Rogério
URL:https://sergipepaisdoforro.com.br/evento/toca-do-vale/
LOCATION:Arraiá do Povo – Palco Rogério
CATEGORIES:Arraiá do Povo,Arraiá do Povo – Palco Rogério
END:VEVENT
BEGIN:VEVENT
DTSTART;VALUE=DATE:20250611
DTEND;VALUE=DATE:20250613
DTSTAMP:20260420T022612
CREATED:20250321T175045Z
LAST-MODIFIED:20250326T204751Z
UID:10001018-1749607200-1749693599@sergipepaisdoforro.com.br
SUMMARY:LUIZ FONTINELI
DESCRIPTION:LUIZ FONTINELIData: 11/06/2025 às 02:00Categoria(s): Arraiá do Povo\, Arraiá do Povo – Palco Rogério
URL:https://sergipepaisdoforro.com.br/evento/luiz-fontineli/
LOCATION:Arraiá do Povo – Palco Rogério
CATEGORIES:Arraiá do Povo,Arraiá do Povo – Palco Rogério
END:VEVENT
BEGIN:VEVENT
DTSTART;VALUE=DATE:20250611
DTEND;VALUE=DATE:20250613
DTSTAMP:20260420T022612
CREATED:20250321T174903Z
LAST-MODIFIED:20250326T204751Z
UID:10001017-1749607200-1749693599@sergipepaisdoforro.com.br
SUMMARY:LUCAS CASTRO
DESCRIPTION:LUCAS CASTROData: 11/06/2025 às 02:00Categoria(s): Arraiá do Povo\, Palco 360º
URL:https://sergipepaisdoforro.com.br/evento/lucas-castro/
LOCATION:Arraiá do Povo – Palco Rogério
CATEGORIES:Arraiá do Povo,Palco 360º
END:VEVENT
BEGIN:VEVENT
DTSTART;VALUE=DATE:20250610
DTEND;VALUE=DATE:20250612
DTSTAMP:20260420T022612
CREATED:20250609T185355Z
LAST-MODIFIED:20250609T185356Z
UID:10001216-1749520800-1749607199@sergipepaisdoforro.com.br
SUMMARY:JEFINHO TEIXEIRA - 17H30
DESCRIPTION:JEFINHO TEIXEIRA – 17H30Data: Categoria(s): Coreto da Eneva
URL:https://sergipepaisdoforro.com.br/evento/jefinho-teixeira-17h30/
LOCATION:Arraiá do Povo – Palco Rogério
CATEGORIES:Coreto da Eneva
END:VEVENT
BEGIN:VEVENT
DTSTART;VALUE=DATE:20250610
DTEND;VALUE=DATE:20250612
DTSTAMP:20260420T022612
CREATED:20250609T182520Z
LAST-MODIFIED:20250609T182521Z
UID:10001205-1749520800-1749607199@sergipepaisdoforro.com.br
SUMMARY:DESTÉ NOR - 20H
DESCRIPTION:DESTÉ NOR – 20HData: Categoria(s): Vila do Forró
URL:https://sergipepaisdoforro.com.br/evento/deste-nor-20h/
LOCATION:Arraiá do Povo – Palco Rogério
CATEGORIES:Vila do Forró
END:VEVENT
BEGIN:VEVENT
DTSTART;VALUE=DATE:20250610
DTEND;VALUE=DATE:20250612
DTSTAMP:20260420T022612
CREATED:20250609T182434Z
LAST-MODIFIED:20250609T182436Z
UID:10001204-1749520800-1749607199@sergipepaisdoforro.com.br
SUMMARY:SR. E SRA. ESPANTALHO - 18H30
DESCRIPTION:SR. E SRA. ESPANTALHO – 18H30Data: Categoria(s): Vila do Forró
URL:https://sergipepaisdoforro.com.br/evento/sr-e-sra-espantalho-18h30/
LOCATION:Arraiá do Povo – Palco Rogério
CATEGORIES:Vila do Forró
END:VEVENT
END:VCALENDAR