BEGIN:VCALENDAR
VERSION:2.0
PRODID:-//Sergipe País do Forro - ECPv6.15.19//NONSGML v1.0//EN
CALSCALE:GREGORIAN
METHOD:PUBLISH
X-WR-CALNAME:Sergipe País do Forro
X-ORIGINAL-URL:https://sergipepaisdoforro.com.br
X-WR-CALDESC:Eventos para Sergipe País do Forro
REFRESH-INTERVAL;VALUE=DURATION:PT1H
X-Robots-Tag:noindex
X-PUBLISHED-TTL:PT1H
BEGIN:VTIMEZONE
TZID:America/Maceio
BEGIN:STANDARD
TZOFFSETFROM:-0300
TZOFFSETTO:-0300
TZNAME:-03
DTSTART:20240101T000000
END:STANDARD
END:VTIMEZONE
BEGIN:VEVENT
DTSTART;VALUE=DATE:20250617
DTEND;VALUE=DATE:20250619
DTSTAMP:20260419T220804
CREATED:20250321T192332Z
LAST-MODIFIED:20250326T204745Z
UID:10001040-1750125600-1750211999@sergipepaisdoforro.com.br
SUMMARY:SILVANO SALES
DESCRIPTION:SILVANO SALESData: 17/06/2025 às 02:00Categoria(s): Arraiá do Povo\, Arraiá do Povo – Palco Rogério
URL:https://sergipepaisdoforro.com.br/evento/silvano-sales/
LOCATION:Arraiá do Povo – Palco Rogério
CATEGORIES:Arraiá do Povo,Arraiá do Povo – Palco Rogério
END:VEVENT
BEGIN:VEVENT
DTSTART;VALUE=DATE:20250617
DTEND;VALUE=DATE:20250619
DTSTAMP:20260419T220804
CREATED:20250321T191007Z
LAST-MODIFIED:20250326T204745Z
UID:10001039-1750125600-1750211999@sergipepaisdoforro.com.br
SUMMARY:RAQUEL DOS TECLADOS
DESCRIPTION:RAQUEL DOS TECLADOSData: 17/06/2025 às 02:00Categoria(s): Arraiá do Povo\, Arraiá do Povo – Palco Rogério
URL:https://sergipepaisdoforro.com.br/evento/raquel-dos-teclados/
LOCATION:Arraiá do Povo – Palco Rogério
CATEGORIES:Arraiá do Povo,Arraiá do Povo – Palco Rogério
END:VEVENT
BEGIN:VEVENT
DTSTART;VALUE=DATE:20250617
DTEND;VALUE=DATE:20250619
DTSTAMP:20260419T220804
CREATED:20250321T190915Z
LAST-MODIFIED:20250326T204746Z
UID:10001038-1750125600-1750211999@sergipepaisdoforro.com.br
SUMMARY:ALYSSON LIMA
DESCRIPTION:ALYSSON LIMAData: 17/06/2025 às 02:00Categoria(s): Arraiá do Povo\, Palco 360º
URL:https://sergipepaisdoforro.com.br/evento/alysson-lima/
LOCATION:Arraiá do Povo – Palco Rogério
CATEGORIES:Arraiá do Povo,Palco 360º
END:VEVENT
BEGIN:VEVENT
DTSTART;VALUE=DATE:20250615
DTEND;VALUE=DATE:20250617
DTSTAMP:20260419T220804
CREATED:20250609T190705Z
LAST-MODIFIED:20250609T190707Z
UID:10001222-1749952800-1750039199@sergipepaisdoforro.com.br
SUMMARY:JEFINHO DO ACORDEON E TRIO REMELA DE GATO - 19H
DESCRIPTION:JEFINHO DO ACORDEON E TRIO REMELA DE GATO – 19HData: Categoria(s): Coreto da Eneva
URL:https://sergipepaisdoforro.com.br/evento/jefinho-do-acordeon-e-trio-remela-de-gato-19h/
LOCATION:Arraiá do Povo – Palco Rogério
CATEGORIES:Coreto da Eneva
END:VEVENT
BEGIN:VEVENT
DTSTART;VALUE=DATE:20250615
DTEND;VALUE=DATE:20250617
DTSTAMP:20260419T220804
CREATED:20250609T190617Z
LAST-MODIFIED:20250609T190619Z
UID:10001221-1749952800-1750039199@sergipepaisdoforro.com.br
SUMMARY:ATAÍDE DO ACORDEON - 17H30
DESCRIPTION:ATAÍDE DO ACORDEON – 17H30Data: Categoria(s): Coreto da Eneva
URL:https://sergipepaisdoforro.com.br/evento/ataide-do-acordeon-17h30-2/
LOCATION:Arraiá do Povo – Palco Rogério
CATEGORIES:Coreto da Eneva
END:VEVENT
BEGIN:VEVENT
DTSTART;VALUE=DATE:20250615
DTEND;VALUE=DATE:20250617
DTSTAMP:20260419T220804
CREATED:20250609T184600Z
LAST-MODIFIED:20250609T184603Z
UID:10001215-1749952800-1750039199@sergipepaisdoforro.com.br
SUMMARY:MENINA MIÚDA - 20H
DESCRIPTION:MENINA MIÚDA – 20HData: Categoria(s): Vila do Forró
URL:https://sergipepaisdoforro.com.br/evento/menina-miuda-20h/
LOCATION:Arraiá do Povo – Palco Rogério
CATEGORIES:Vila do Forró
END:VEVENT
BEGIN:VEVENT
DTSTART;VALUE=DATE:20250615
DTEND;VALUE=DATE:20250617
DTSTAMP:20260419T220804
CREATED:20250609T184317Z
LAST-MODIFIED:20250609T184526Z
UID:10001214-1749952800-1750039199@sergipepaisdoforro.com.br
SUMMARY:ARRAIÁ DA TRUPE - 18H30
DESCRIPTION:ARRAIÁ DA TRUPE – 18H30Data: 14/06/2025 às 02:00Categoria(s): Vila do Forró
URL:https://sergipepaisdoforro.com.br/evento/arraia-da-trupe-18h30/
LOCATION:Arraiá do Povo – Palco Rogério
CATEGORIES:Vila do Forró
END:VEVENT
BEGIN:VEVENT
DTSTART;VALUE=DATE:20250615
DTEND;VALUE=DATE:20250617
DTSTAMP:20260419T220804
CREATED:20250609T182316Z
LAST-MODIFIED:20250609T182318Z
UID:10001203-1749952800-1750039199@sergipepaisdoforro.com.br
SUMMARY:DANNY MARTINS - 21H30
DESCRIPTION:DANNY MARTINS – 21H30Data: Categoria(s): Barracão da Sergipe
URL:https://sergipepaisdoforro.com.br/evento/danny-martins-21h30/
LOCATION:Arraiá do Povo – Palco Rogério
CATEGORIES:Barracão da Sergipe
END:VEVENT
BEGIN:VEVENT
DTSTART;VALUE=DATE:20250615
DTEND;VALUE=DATE:20250617
DTSTAMP:20260419T220804
CREATED:20250609T182146Z
LAST-MODIFIED:20250609T182230Z
UID:10001202-1749952800-1750039199@sergipepaisdoforro.com.br
SUMMARY:QUADRILHA AMOR CAIPIRA - 20H30
DESCRIPTION:QUADRILHA AMOR CAIPIRA – 20H30Data: 15/06/2025 às 02:00Categoria(s): Barracão da Sergipe
URL:https://sergipepaisdoforro.com.br/evento/quadrilha-amor-caipira-19h/
LOCATION:Arraiá do Povo – Palco Rogério
CATEGORIES:Barracão da Sergipe
END:VEVENT
BEGIN:VEVENT
DTSTART;VALUE=DATE:20250615
DTEND;VALUE=DATE:20250617
DTSTAMP:20260419T220804
CREATED:20250609T182037Z
LAST-MODIFIED:20250609T182039Z
UID:10001201-1749952800-1750039199@sergipepaisdoforro.com.br
SUMMARY:VALTER NOGUEIRA - 19H
DESCRIPTION:VALTER NOGUEIRA – 19HData: Categoria(s): Barracão da Sergipe
URL:https://sergipepaisdoforro.com.br/evento/valter-nogueira-19h/
LOCATION:Arraiá do Povo – Palco Rogério
CATEGORIES:Barracão da Sergipe
END:VEVENT
BEGIN:VEVENT
DTSTART;VALUE=DATE:20250615
DTEND;VALUE=DATE:20250617
DTSTAMP:20260419T220804
CREATED:20250321T190355Z
LAST-MODIFIED:20250326T204746Z
UID:10001037-1749952800-1750039199@sergipepaisdoforro.com.br
SUMMARY:JONAS ESTICADO
DESCRIPTION:JONAS ESTICADOData: 15/06/2025 às 02:00Categoria(s): Arraiá do Povo\, Arraiá do Povo – Palco Rogério
URL:https://sergipepaisdoforro.com.br/evento/jonas-esticado/
LOCATION:Arraiá do Povo – Palco Rogério
CATEGORIES:Arraiá do Povo,Arraiá do Povo – Palco Rogério
END:VEVENT
BEGIN:VEVENT
DTSTART;VALUE=DATE:20250615
DTEND;VALUE=DATE:20250617
DTSTAMP:20260419T220804
CREATED:20250321T190014Z
LAST-MODIFIED:20250326T204746Z
UID:10001036-1749952800-1750039199@sergipepaisdoforro.com.br
SUMMARY:RAMON E RANDINHO
DESCRIPTION:RAMON E RANDINHOData: 15/06/2025 às 02:00Categoria(s): Arraiá do Povo\, Arraiá do Povo – Palco Rogério
URL:https://sergipepaisdoforro.com.br/evento/ramon-e-randinho/
LOCATION:Arraiá do Povo – Palco Rogério
CATEGORIES:Arraiá do Povo,Arraiá do Povo – Palco Rogério
END:VEVENT
BEGIN:VEVENT
DTSTART;VALUE=DATE:20250615
DTEND;VALUE=DATE:20250617
DTSTAMP:20260419T220804
CREATED:20250321T185716Z
LAST-MODIFIED:20250326T204746Z
UID:10001035-1749952800-1750039199@sergipepaisdoforro.com.br
SUMMARY:BRASAS DO FORRÓ
DESCRIPTION:BRASAS DO FORRÓData: 15/06/2025 às 02:00Categoria(s): Arraiá do Povo\, Arraiá do Povo – Palco Rogério
URL:https://sergipepaisdoforro.com.br/evento/brasas-do-forro/
LOCATION:Arraiá do Povo – Palco Rogério
CATEGORIES:Arraiá do Povo,Arraiá do Povo – Palco Rogério
END:VEVENT
BEGIN:VEVENT
DTSTART;VALUE=DATE:20250615
DTEND;VALUE=DATE:20250617
DTSTAMP:20260419T220804
CREATED:20250321T185028Z
LAST-MODIFIED:20250326T204747Z
UID:10001033-1749952800-1750039199@sergipepaisdoforro.com.br
SUMMARY:FRANQUINHO VAQUEIRO
DESCRIPTION:FRANQUINHO VAQUEIROData: 15/06/2025 às 02:00Categoria(s): Arraiá do Povo\, Palco 360º
URL:https://sergipepaisdoforro.com.br/evento/franquinho-vaqueiro/
LOCATION:Arraiá do Povo – Palco Rogério
CATEGORIES:Arraiá do Povo,Palco 360º
END:VEVENT
BEGIN:VEVENT
DTSTART;TZID=America/Maceio:20250614T190000
DTEND;TZID=America/Maceio:20250614T190000
DTSTAMP:20260419T220804
CREATED:20250409T134957Z
LAST-MODIFIED:20250409T134957Z
UID:10001109-1749927600-1749927600@sergipepaisdoforro.com.br
SUMMARY:ARRASTAPÉ DO 18
DESCRIPTION:ARRASTAPÉ DO 18Data: Categoria(s): Arrastapé do 18
URL:https://sergipepaisdoforro.com.br/evento/arrastape-do-18-2/
LOCATION:Arrastapé do 18
CATEGORIES:Arrastapé do 18
END:VEVENT
BEGIN:VEVENT
DTSTART;VALUE=DATE:20250614
DTEND;VALUE=DATE:20250616
DTSTAMP:20260419T220804
CREATED:20250609T190525Z
LAST-MODIFIED:20250609T190527Z
UID:10001220-1749866400-1749952799@sergipepaisdoforro.com.br
SUMMARY:IVANILDO DO ACORDEON - 17H30
DESCRIPTION:IVANILDO DO ACORDEON – 17H30Data: Categoria(s): Coreto da Eneva
URL:https://sergipepaisdoforro.com.br/evento/ivanildo-do-acordeon-17h30/
LOCATION:Arraiá do Povo – Palco Rogério
CATEGORIES:Coreto da Eneva
END:VEVENT
BEGIN:VEVENT
DTSTART;VALUE=DATE:20250614
DTEND;VALUE=DATE:20250616
DTSTAMP:20260419T220804
CREATED:20250609T184122Z
LAST-MODIFIED:20250609T184123Z
UID:10001213-1749866400-1749952799@sergipepaisdoforro.com.br
SUMMARY:FAZ DE CONTA NO CICLO JUNINO - 20H
DESCRIPTION:FAZ DE CONTA NO CICLO JUNINO – 20HData: Categoria(s): Vila do Forró
URL:https://sergipepaisdoforro.com.br/evento/faz-de-conta-no-ciclo-junino-20h/
LOCATION:Arraiá do Povo – Palco Rogério
CATEGORIES:Vila do Forró
END:VEVENT
BEGIN:VEVENT
DTSTART;VALUE=DATE:20250614
DTEND;VALUE=DATE:20250616
DTSTAMP:20260419T220804
CREATED:20250609T184037Z
LAST-MODIFIED:20250609T184039Z
UID:10001212-1749866400-1749952799@sergipepaisdoforro.com.br
SUMMARY:QUEM VÊ CARA NÃO VÊ CORAÇÃO - 18H30
DESCRIPTION:QUEM VÊ CARA NÃO VÊ CORAÇÃO – 18H30Data: Categoria(s): Vila do Forró
URL:https://sergipepaisdoforro.com.br/evento/quem-ve-cara-nao-ve-coracao-18h30-2/
LOCATION:Arraiá do Povo – Palco Rogério
CATEGORIES:Vila do Forró
END:VEVENT
BEGIN:VEVENT
DTSTART;VALUE=DATE:20250614
DTEND;VALUE=DATE:20250616
DTSTAMP:20260419T220804
CREATED:20250609T181857Z
LAST-MODIFIED:20250609T181858Z
UID:10001200-1749866400-1749952799@sergipepaisdoforro.com.br
SUMMARY:CÉSAR SILVA - 23H
DESCRIPTION:CÉSAR SILVA – 23HData: Categoria(s): Barracão da Sergipe
URL:https://sergipepaisdoforro.com.br/evento/cesar-silva-23h/
LOCATION:Arraiá do Povo – Palco Rogério
CATEGORIES:Barracão da Sergipe
END:VEVENT
BEGIN:VEVENT
DTSTART;VALUE=DATE:20250614
DTEND;VALUE=DATE:20250616
DTSTAMP:20260419T220804
CREATED:20250609T181759Z
LAST-MODIFIED:20250609T181801Z
UID:10001199-1749866400-1749952799@sergipepaisdoforro.com.br
SUMMARY:CANA COM LIMÃO - 21H
DESCRIPTION:CANA COM LIMÃO – 21HData: Categoria(s): Barracão da Sergipe
URL:https://sergipepaisdoforro.com.br/evento/cana-com-limao-21h/
LOCATION:Arraiá do Povo – Palco Rogério
CATEGORIES:Barracão da Sergipe
END:VEVENT
BEGIN:VEVENT
DTSTART;VALUE=DATE:20250614
DTEND;VALUE=DATE:20250616
DTSTAMP:20260419T220804
CREATED:20250609T181705Z
LAST-MODIFIED:20250609T181707Z
UID:10001198-1749866400-1749952799@sergipepaisdoforro.com.br
SUMMARY:CACETEIRAS DE MESTRE RINDÚ - 20H
DESCRIPTION:CACETEIRAS DE MESTRE RINDÚ – 20HData: Categoria(s): Barracão da Sergipe
URL:https://sergipepaisdoforro.com.br/evento/caceteiras-de-mestre-rindu-20h/
LOCATION:Arraiá do Povo – Palco Rogério
CATEGORIES:Barracão da Sergipe
END:VEVENT
BEGIN:VEVENT
DTSTART;VALUE=DATE:20250614
DTEND;VALUE=DATE:20250616
DTSTAMP:20260419T220804
CREATED:20250609T181434Z
LAST-MODIFIED:20250609T181436Z
UID:10001197-1749866400-1749952799@sergipepaisdoforro.com.br
SUMMARY:ÓPERA DO MILHO - 19H
DESCRIPTION:ÓPERA DO MILHO – 19HData: Categoria(s): Barracão da Sergipe
URL:https://sergipepaisdoforro.com.br/evento/opera-do-milho-19h-2/
LOCATION:Arraiá do Povo – Palco Rogério
CATEGORIES:Barracão da Sergipe
END:VEVENT
BEGIN:VEVENT
DTSTART;VALUE=DATE:20250614
DTEND;VALUE=DATE:20250616
DTSTAMP:20260419T220804
CREATED:20250521T131949Z
LAST-MODIFIED:20250521T204722Z
UID:10001123-1749866400-1749952799@sergipepaisdoforro.com.br
SUMMARY:SOLANGE ALMEIDA - 00H
DESCRIPTION:SOLANGE ALMEIDA – 00HData: 14/06/2025 às 00:00Categoria(s): Arrastapé do 18
URL:https://sergipepaisdoforro.com.br/evento/solange-almeida-2/
LOCATION:Arraiá do Povo – Palco Rogério
CATEGORIES:Arrastapé do 18
END:VEVENT
BEGIN:VEVENT
DTSTART;VALUE=DATE:20250614
DTEND;VALUE=DATE:20250616
DTSTAMP:20260419T220804
CREATED:20250521T131248Z
LAST-MODIFIED:20250521T204753Z
UID:10001122-1749866400-1749952799@sergipepaisdoforro.com.br
SUMMARY:MIKAEL SANTOS - 02H
DESCRIPTION:MIKAEL SANTOS – 02HData: 14/06/2025 às 02:00Categoria(s): Arrastapé do 18
URL:https://sergipepaisdoforro.com.br/evento/mikael-santos-2/
LOCATION:Arraiá do Povo – Palco Rogério
CATEGORIES:Arrastapé do 18
END:VEVENT
BEGIN:VEVENT
DTSTART;VALUE=DATE:20250614
DTEND;VALUE=DATE:20250616
DTSTAMP:20260419T220804
CREATED:20250521T131103Z
LAST-MODIFIED:20250521T204832Z
UID:10001120-1749866400-1749952799@sergipepaisdoforro.com.br
SUMMARY:FOGO NA SAIA - 22H
DESCRIPTION:FOGO NA SAIA – 22HData: 14/06/2025 às 22:00Categoria(s): Arrastapé do 18
URL:https://sergipepaisdoforro.com.br/evento/fogo-na-saia-2/
LOCATION:Arraiá do Povo – Palco Rogério
CATEGORIES:Arrastapé do 18
END:VEVENT
BEGIN:VEVENT
DTSTART;VALUE=DATE:20250614
DTEND;VALUE=DATE:20250616
DTSTAMP:20260419T220804
CREATED:20250321T181500Z
LAST-MODIFIED:20250326T204747Z
UID:10001032-1749866400-1749952799@sergipepaisdoforro.com.br
SUMMARY:GUILHERME DANTAS
DESCRIPTION:GUILHERME DANTASData: 14/06/2025 às 02:00Categoria(s): Arraiá do Povo\, Arraiá do Povo – Palco Rogério
URL:https://sergipepaisdoforro.com.br/evento/guilherme-dantas/
LOCATION:Arraiá do Povo – Palco Rogério
CATEGORIES:Arraiá do Povo,Arraiá do Povo – Palco Rogério
END:VEVENT
BEGIN:VEVENT
DTSTART;VALUE=DATE:20250614
DTEND;VALUE=DATE:20250616
DTSTAMP:20260419T220804
CREATED:20250321T181419Z
LAST-MODIFIED:20250326T204747Z
UID:10001031-1749866400-1749952799@sergipepaisdoforro.com.br
SUMMARY:MATHEUS FERNANDES
DESCRIPTION:MATHEUS FERNANDESData: 14/06/2025 às 02:00Categoria(s): Arraiá do Povo\, Arraiá do Povo – Palco Rogério
URL:https://sergipepaisdoforro.com.br/evento/matheus-fernandes/
LOCATION:Arraiá do Povo – Palco Rogério
CATEGORIES:Arraiá do Povo,Arraiá do Povo – Palco Rogério
END:VEVENT
BEGIN:VEVENT
DTSTART;VALUE=DATE:20250614
DTEND;VALUE=DATE:20250616
DTSTAMP:20260419T220804
CREATED:20250321T181327Z
LAST-MODIFIED:20250326T204747Z
UID:10001030-1749866400-1749952799@sergipepaisdoforro.com.br
SUMMARY:ÁVINE VINNY
DESCRIPTION:ÁVINE VINNYData: 14/06/2025 às 02:00Categoria(s): Arraiá do Povo\, Arraiá do Povo – Palco Rogério
URL:https://sergipepaisdoforro.com.br/evento/avine-vinny/
LOCATION:Arraiá do Povo – Palco Rogério
CATEGORIES:Arraiá do Povo,Arraiá do Povo – Palco Rogério
END:VEVENT
BEGIN:VEVENT
DTSTART;VALUE=DATE:20250614
DTEND;VALUE=DATE:20250616
DTSTAMP:20260419T220804
CREATED:20250321T180852Z
LAST-MODIFIED:20250326T204747Z
UID:10001029-1749866400-1749952799@sergipepaisdoforro.com.br
SUMMARY:YGOR RANIERE
DESCRIPTION:YGOR RANIEREData: 14/06/2025 às 02:00Categoria(s): Arraiá do Povo\, Arraiá do Povo – Palco Rogério
URL:https://sergipepaisdoforro.com.br/evento/bau-das-antigas/
LOCATION:Arraiá do Povo – Palco Rogério
CATEGORIES:Arraiá do Povo,Arraiá do Povo – Palco Rogério
END:VEVENT
BEGIN:VEVENT
DTSTART;VALUE=DATE:20250614
DTEND;VALUE=DATE:20250616
DTSTAMP:20260419T220804
CREATED:20250321T180731Z
LAST-MODIFIED:20250326T204748Z
UID:10001028-1749866400-1749952799@sergipepaisdoforro.com.br
SUMMARY:CORISKO DO TROVÃO
DESCRIPTION:CORISKO DO TROVÃOData: 14/06/2025 às 02:00Categoria(s): Arraiá do Povo\, Palco 360º
URL:https://sergipepaisdoforro.com.br/evento/corisco-do-trovao/
LOCATION:Arraiá do Povo – Palco Rogério
CATEGORIES:Arraiá do Povo,Palco 360º
END:VEVENT
END:VCALENDAR